BEGIN:VCALENDAR
VERSION:2.0
PRODID:-//ÉquiLiberté - ECPv6.15.13.1//NONSGML v1.0//EN
CALSCALE:GREGORIAN
METHOD:PUBLISH
X-WR-CALNAME:ÉquiLiberté
X-ORIGINAL-URL:https://equiliberte.org
X-WR-CALDESC:Évènements pour ÉquiLiberté
REFRESH-INTERVAL;VALUE=DURATION:PT1H
X-Robots-Tag:noindex
X-PUBLISHED-TTL:PT1H
BEGIN:VTIMEZONE
TZID:Europe/Paris
BEGIN:DAYLIGHT
TZOFFSETFROM:+0100
TZOFFSETTO:+0200
TZNAME:CEST
DTSTART:20230326T010000
END:DAYLIGHT
BEGIN:STANDARD
TZOFFSETFROM:+0200
TZOFFSETTO:+0100
TZNAME:CET
DTSTART:20231029T010000
END:STANDARD
BEGIN:DAYLIGHT
TZOFFSETFROM:+0100
TZOFFSETTO:+0200
TZNAME:CEST
DTSTART:20240331T010000
END:DAYLIGHT
BEGIN:STANDARD
TZOFFSETFROM:+0200
TZOFFSETTO:+0100
TZNAME:CET
DTSTART:20241027T010000
END:STANDARD
BEGIN:DAYLIGHT
TZOFFSETFROM:+0100
TZOFFSETTO:+0200
TZNAME:CEST
DTSTART:20250330T010000
END:DAYLIGHT
BEGIN:STANDARD
TZOFFSETFROM:+0200
TZOFFSETTO:+0100
TZNAME:CET
DTSTART:20251026T010000
END:STANDARD
END:VTIMEZONE
BEGIN:VEVENT
DTSTART;TZID=Europe/Paris:20240728T080000
DTEND;TZID=Europe/Paris:20240728T170000
DTSTAMP:20260420T151817
CREATED:20240109T160631Z
LAST-MODIFIED:20240109T162950Z
UID:7689-1722153600-1722186000@equiliberte.org
SUMMARY:Rando à La Celle (03)
DESCRIPTION:
URL:https://equiliberte.org/event/rando-a-la-celle/
LOCATION:commune\, La Celle\, 03600
CATEGORIES:Randonnée
ATTACH;FMTTYPE=image/jpeg:https://equiliberte.org/wp-content/uploads/2022/12/logo-03440-ACRMA.jpg
END:VEVENT
BEGIN:VEVENT
DTSTART;TZID=Europe/Paris:20240728T080000
DTEND;TZID=Europe/Paris:20240728T170000
DTSTAMP:20260420T151817
CREATED:20240617T192703Z
LAST-MODIFIED:20240617T194038Z
UID:9659-1722153600-1722186000@equiliberte.org
SUMMARY:Rando à Jaulnay (37)
DESCRIPTION:
URL:https://equiliberte.org/event/rando-a-jaulnay-37/
LOCATION:la Mousselière\, Jaulnay\, 37120
CATEGORIES:Randonnée
ATTACH;FMTTYPE=image/jpeg:https://equiliberte.org/wp-content/uploads/2024/06/2024-07-28-37-jaulnay.jpg
END:VEVENT
END:VCALENDAR