BEGIN:VCALENDAR
VERSION:2.0
PRODID:-//ÉquiLiberté - ECPv6.15.13.1//NONSGML v1.0//EN
CALSCALE:GREGORIAN
METHOD:PUBLISH
X-ORIGINAL-URL:https://equiliberte.org
X-WR-CALDESC:Évènements pour ÉquiLiberté
REFRESH-INTERVAL;VALUE=DURATION:PT1H
X-Robots-Tag:noindex
X-PUBLISHED-TTL:PT1H
BEGIN:VTIMEZONE
TZID:Europe/Paris
BEGIN:DAYLIGHT
TZOFFSETFROM:+0100
TZOFFSETTO:+0200
TZNAME:CEST
DTSTART:20230326T010000
END:DAYLIGHT
BEGIN:STANDARD
TZOFFSETFROM:+0200
TZOFFSETTO:+0100
TZNAME:CET
DTSTART:20231029T010000
END:STANDARD
BEGIN:DAYLIGHT
TZOFFSETFROM:+0100
TZOFFSETTO:+0200
TZNAME:CEST
DTSTART:20240331T010000
END:DAYLIGHT
BEGIN:STANDARD
TZOFFSETFROM:+0200
TZOFFSETTO:+0100
TZNAME:CET
DTSTART:20241027T010000
END:STANDARD
BEGIN:DAYLIGHT
TZOFFSETFROM:+0100
TZOFFSETTO:+0200
TZNAME:CEST
DTSTART:20250330T010000
END:DAYLIGHT
BEGIN:STANDARD
TZOFFSETFROM:+0200
TZOFFSETTO:+0100
TZNAME:CET
DTSTART:20251026T010000
END:STANDARD
END:VTIMEZONE
BEGIN:VEVENT
DTSTART;TZID=Europe/Paris:20240720T080000
DTEND;TZID=Europe/Paris:20240721T170000
DTSTAMP:20260422T112856
CREATED:20230924T184513Z
LAST-MODIFIED:20240627T060038Z
UID:7068-1721462400-1721581200@equiliberte.org
SUMMARY:Route des Vins (81)
DESCRIPTION:
URL:https://equiliberte.org/event/rando-de-fin-de-saison-81/
LOCATION:Base de Loisirs\, Vère-Grésigne\, 81140
CATEGORIES:Randonnée,Randonnée plusieurs jours
ATTACH;FMTTYPE=image/jpeg:https://equiliberte.org/wp-content/uploads/2024/06/2024-07-21-81-tarnais.jpg
END:VEVENT
BEGIN:VEVENT
DTSTART;TZID=Europe/Paris:20240721T080000
DTEND;TZID=Europe/Paris:20240721T170000
DTSTAMP:20260422T112856
CREATED:20230625T155257Z
LAST-MODIFIED:20240531T042403Z
UID:6698-1721548800-1721581200@equiliberte.org
SUMMARY:Rando à Manthelan (37)
DESCRIPTION:Les détails suivront bientôt
URL:https://equiliberte.org/event/rando-a-manthelan-37/
LOCATION:la Niverdière\, Manthelan\, 37240
CATEGORIES:Randonnée
ATTACH;FMTTYPE=image/jpeg:https://equiliberte.org/wp-content/uploads/2024/05/2024-07-21-37-manthelan.jpg
END:VEVENT
END:VCALENDAR