BEGIN:VCALENDAR
VERSION:2.0
PRODID:-//ÉquiLiberté - ECPv6.15.13.1//NONSGML v1.0//EN
CALSCALE:GREGORIAN
METHOD:PUBLISH
X-WR-CALNAME:ÉquiLiberté
X-ORIGINAL-URL:https://equiliberte.org
X-WR-CALDESC:Évènements pour ÉquiLiberté
REFRESH-INTERVAL;VALUE=DURATION:PT1H
X-Robots-Tag:noindex
X-PUBLISHED-TTL:PT1H
BEGIN:VTIMEZONE
TZID:Europe/Paris
BEGIN:DAYLIGHT
TZOFFSETFROM:+0100
TZOFFSETTO:+0200
TZNAME:CEST
DTSTART:20230326T010000
END:DAYLIGHT
BEGIN:STANDARD
TZOFFSETFROM:+0200
TZOFFSETTO:+0100
TZNAME:CET
DTSTART:20231029T010000
END:STANDARD
BEGIN:DAYLIGHT
TZOFFSETFROM:+0100
TZOFFSETTO:+0200
TZNAME:CEST
DTSTART:20240331T010000
END:DAYLIGHT
BEGIN:STANDARD
TZOFFSETFROM:+0200
TZOFFSETTO:+0100
TZNAME:CET
DTSTART:20241027T010000
END:STANDARD
BEGIN:DAYLIGHT
TZOFFSETFROM:+0100
TZOFFSETTO:+0200
TZNAME:CEST
DTSTART:20250330T010000
END:DAYLIGHT
BEGIN:STANDARD
TZOFFSETFROM:+0200
TZOFFSETTO:+0100
TZNAME:CET
DTSTART:20251026T010000
END:STANDARD
END:VTIMEZONE
BEGIN:VEVENT
DTSTART;TZID=Europe/Paris:20240630T080000
DTEND;TZID=Europe/Paris:20240630T170000
DTSTAMP:20260424T111608
CREATED:20240109T160134Z
LAST-MODIFIED:20240109T160134Z
UID:7681-1719734400-1719766800@equiliberte.org
SUMMARY:Rando à Buxières-les-Mines (03)
DESCRIPTION:
URL:https://equiliberte.org/event/rando-a-buxieres-les-mines-03/
LOCATION:le bourg\, Buxières-les-Mines\, 03440
CATEGORIES:Randonnée
ATTACH;FMTTYPE=image/jpeg:https://equiliberte.org/wp-content/uploads/2022/12/logo-03440-ACRMA.jpg
END:VEVENT
BEGIN:VEVENT
DTSTART;TZID=Europe/Paris:20240630T080000
DTEND;TZID=Europe/Paris:20240630T170000
DTSTAMP:20260424T111608
CREATED:20240206T180441Z
LAST-MODIFIED:20240528T163731Z
UID:8113-1719734400-1719766800@equiliberte.org
SUMMARY:Rando à Barbezieux (16)
DESCRIPTION:Pour information concernant la rando chez nos amis Lili et François à Barbezieux Saint Hilaire 16300 route de la Cigogne il y aura finalement deux parcours attelés et montés de 21 et 26 kms balisés. \n\n\n\nCasse-croûte à mi-parcours\, apéritif offert à l’issue de la randonnée. \n\n\n\nPique-nique tiré du sac\, apporter tables et chaises.
URL:https://equiliberte.org/event/rando-a-barbezieux-16/
LOCATION:route de la Cigogne\, Barbezieux St Hilaire\, 16300
CATEGORIES:Randonnée
ATTACH;FMTTYPE=image/jpeg:https://equiliberte.org/wp-content/uploads/2024/05/2024-06-30-16-barbezieux.jpg
END:VEVENT
END:VCALENDAR