BEGIN:VCALENDAR
VERSION:2.0
PRODID:-//ÉquiLiberté - ECPv6.15.13.1//NONSGML v1.0//EN
CALSCALE:GREGORIAN
METHOD:PUBLISH
X-ORIGINAL-URL:https://equiliberte.org
X-WR-CALDESC:Évènements pour ÉquiLiberté
REFRESH-INTERVAL;VALUE=DURATION:PT1H
X-Robots-Tag:noindex
X-PUBLISHED-TTL:PT1H
BEGIN:VTIMEZONE
TZID:Europe/Paris
BEGIN:DAYLIGHT
TZOFFSETFROM:+0100
TZOFFSETTO:+0200
TZNAME:CEST
DTSTART:20230326T010000
END:DAYLIGHT
BEGIN:STANDARD
TZOFFSETFROM:+0200
TZOFFSETTO:+0100
TZNAME:CET
DTSTART:20231029T010000
END:STANDARD
BEGIN:DAYLIGHT
TZOFFSETFROM:+0100
TZOFFSETTO:+0200
TZNAME:CEST
DTSTART:20240331T010000
END:DAYLIGHT
BEGIN:STANDARD
TZOFFSETFROM:+0200
TZOFFSETTO:+0100
TZNAME:CET
DTSTART:20241027T010000
END:STANDARD
BEGIN:DAYLIGHT
TZOFFSETFROM:+0100
TZOFFSETTO:+0200
TZNAME:CEST
DTSTART:20250330T010000
END:DAYLIGHT
BEGIN:STANDARD
TZOFFSETFROM:+0200
TZOFFSETTO:+0100
TZNAME:CET
DTSTART:20251026T010000
END:STANDARD
END:VTIMEZONE
BEGIN:VEVENT
DTSTART;TZID=Europe/Paris:20240526T080000
DTEND;TZID=Europe/Paris:20240526T170000
DTSTAMP:20260424T122438
CREATED:20230119T104749Z
LAST-MODIFIED:20240402T114237Z
UID:5672-1716710400-1716742800@equiliberte.org
SUMMARY:Bô Dimanche à Billy (41)
DESCRIPTION:Qu’est-ce qu’un Bô Dimanche ? : \n\n\n\nUn cavalier ou un groupe de cavaliers propose une sortie avec un itinéraire d’environ 25 km qu’il a défini\, propose aussi une date que nous communiquons. \n\n\n\nLa participation est de 5€ par participant\, gratuite pour les adhérents EquiLiberté. Il n’y a pas d’itinéraire balisé ni de fourniture de carte. L’itinéraire est envoyé par mail ou sur facebook\, à chacun de le récupérer comme il souhaite (les personnes qui ne savent pas lire une carte peuvent s’associer avec des gens qui savent lire une carte). \n\n\n\nLe repas est tiré des sacoches et pris en commun \, cela privilégie les contacts\, sur un lieu de pause défini au départ par l’auteur de la journée.Tout le monde peut participer\, les seuls impératifs étant d’être assurés (adhésion EquiLiberté ou FFE ou autre assurance)\, d’avoir des équidés identifiés et à jour de leurs vaccins et en mesure de faire la sortie.
URL:https://equiliberte.org/event/bo-dimanche-a-chaumont-sur-loire-41/
LOCATION:Chaumont-sur-Loire\, Chaumont-sur-Loire\, 41150\, France
CATEGORIES:Randonnée
ATTACH;FMTTYPE=image/jpeg:https://equiliberte.org/wp-content/uploads/2023/01/logo-bo-dimanche2.jpeg
ORGANIZER;CN="EquiLibert%C3%A9 41":MAILTO:equiliberte41@gmail.com
END:VEVENT
BEGIN:VEVENT
DTSTART;TZID=Europe/Paris:20240526T080000
DTEND;TZID=Europe/Paris:20240526T170000
DTSTAMP:20260424T122438
CREATED:20240315T182014Z
LAST-MODIFIED:20240520T144335Z
UID:8402-1716710400-1716742800@equiliberte.org
SUMMARY:Rallye à Bassillon-Vauze (64)
DESCRIPTION:
URL:https://equiliberte.org/event/we-a-poumarous-city-65/
LOCATION:Mairie\, Bassillon-Vauze\, 64350
CATEGORIES:Randonnée,Randonnée plusieurs jours
ATTACH;FMTTYPE=image/jpeg:https://equiliberte.org/wp-content/uploads/2024/05/2024-05-26-65-a-cheval.jpg
END:VEVENT
END:VCALENDAR