BEGIN:VCALENDAR
VERSION:2.0
PRODID:-//ÉquiLiberté - ECPv6.15.13.1//NONSGML v1.0//EN
CALSCALE:GREGORIAN
METHOD:PUBLISH
X-WR-CALNAME:ÉquiLiberté
X-ORIGINAL-URL:https://equiliberte.org
X-WR-CALDESC:Évènements pour ÉquiLiberté
REFRESH-INTERVAL;VALUE=DURATION:PT1H
X-Robots-Tag:noindex
X-PUBLISHED-TTL:PT1H
BEGIN:VTIMEZONE
TZID:Europe/Paris
BEGIN:DAYLIGHT
TZOFFSETFROM:+0100
TZOFFSETTO:+0200
TZNAME:CEST
DTSTART:20230326T010000
END:DAYLIGHT
BEGIN:STANDARD
TZOFFSETFROM:+0200
TZOFFSETTO:+0100
TZNAME:CET
DTSTART:20231029T010000
END:STANDARD
BEGIN:DAYLIGHT
TZOFFSETFROM:+0100
TZOFFSETTO:+0200
TZNAME:CEST
DTSTART:20240331T010000
END:DAYLIGHT
BEGIN:STANDARD
TZOFFSETFROM:+0200
TZOFFSETTO:+0100
TZNAME:CET
DTSTART:20241027T010000
END:STANDARD
BEGIN:DAYLIGHT
TZOFFSETFROM:+0100
TZOFFSETTO:+0200
TZNAME:CEST
DTSTART:20250330T010000
END:DAYLIGHT
BEGIN:STANDARD
TZOFFSETFROM:+0200
TZOFFSETTO:+0100
TZNAME:CET
DTSTART:20251026T010000
END:STANDARD
END:VTIMEZONE
BEGIN:VEVENT
DTSTART;TZID=Europe/Paris:20240505T080000
DTEND;TZID=Europe/Paris:20240505T170000
DTSTAMP:20260424T121942
CREATED:20230119T163956Z
LAST-MODIFIED:20240501T160954Z
UID:5690-1714896000-1714928400@equiliberte.org
SUMMARY:Bô Dimanche à Mareuil-sur-Cher (41)
DESCRIPTION:Sortie ouverte au cavaliers et attelages. \n\n\n\nQu’est-ce qu’un Bô Dimanche ? :  \n\n\n\nUn cavalier ou un groupe de cavaliers propose une sortie avec un itinéraire d’environ 25 km qu’il a défini\, propose aussi une date que nous communiquons. \n\n\n\nLa participation est de 5€ par participant\, gratuite pour les adhérents EquiLiberté. Il n’y a pas d’itinéraire balisé ni de fourniture de carte. L’itinéraire est envoyé par mail ou sur facebook\, à chacun de le récupérer comme il souhaite (les personnes qui ne savent pas lire une carte peuvent s’associer avec des gens qui savent lire une carte). \n\n\n\nLe repas est tiré des sacoches et pris en commun \, cela privilégie les contacts\, sur un lieu de pause défini au départ par l’auteur de la journée.Tout le monde peut participer\, les seuls impératifs étant d’être assurés (adhésion EquiLiberté ou FFE ou autre assurance)\, d’avoir des équidés identifiés et à jour de leurs vaccins et en mesure de faire la sortie.
URL:https://equiliberte.org/event/bo-dimanche-a-sambin-41/
LOCATION:Sambin\, Sambin\, 41120\, France
CATEGORIES:Randonnée
ATTACH;FMTTYPE=image/jpeg:https://equiliberte.org/wp-content/uploads/2024/05/2024-05-05-41-EQL.jpg
ORGANIZER;CN="EquiLibert%C3%A9 41":MAILTO:equiliberte41@gmail.com
END:VEVENT
BEGIN:VEVENT
DTSTART;TZID=Europe/Paris:20240505T080000
DTEND;TZID=Europe/Paris:20240505T170000
DTSTAMP:20260424T121943
CREATED:20230331T105344Z
LAST-MODIFIED:20240410T043545Z
UID:6310-1714896000-1714928400@equiliberte.org
SUMMARY:Rando pour la Ligue (49)
DESCRIPTION:
URL:https://equiliberte.org/event/rando-pour-la-ligue-49/
LOCATION:salle des loisirs\, Machelles\, 49380
CATEGORIES:Randonnée
ATTACH;FMTTYPE=image/jpeg:https://equiliberte.org/wp-content/uploads/2024/04/2024-05-05-49-bellevigne.jpg
END:VEVENT
END:VCALENDAR