BEGIN:VCALENDAR
VERSION:2.0
PRODID:-//ÉquiLiberté - ECPv6.15.13.1//NONSGML v1.0//EN
CALSCALE:GREGORIAN
METHOD:PUBLISH
X-ORIGINAL-URL:https://equiliberte.org
X-WR-CALDESC:Évènements pour ÉquiLiberté
REFRESH-INTERVAL;VALUE=DURATION:PT1H
X-Robots-Tag:noindex
X-PUBLISHED-TTL:PT1H
BEGIN:VTIMEZONE
TZID:Europe/Paris
BEGIN:DAYLIGHT
TZOFFSETFROM:+0100
TZOFFSETTO:+0200
TZNAME:CEST
DTSTART:20230326T010000
END:DAYLIGHT
BEGIN:STANDARD
TZOFFSETFROM:+0200
TZOFFSETTO:+0100
TZNAME:CET
DTSTART:20231029T010000
END:STANDARD
BEGIN:DAYLIGHT
TZOFFSETFROM:+0100
TZOFFSETTO:+0200
TZNAME:CEST
DTSTART:20240331T010000
END:DAYLIGHT
BEGIN:STANDARD
TZOFFSETFROM:+0200
TZOFFSETTO:+0100
TZNAME:CET
DTSTART:20241027T010000
END:STANDARD
BEGIN:DAYLIGHT
TZOFFSETFROM:+0100
TZOFFSETTO:+0200
TZNAME:CEST
DTSTART:20250330T010000
END:DAYLIGHT
BEGIN:STANDARD
TZOFFSETFROM:+0200
TZOFFSETTO:+0100
TZNAME:CET
DTSTART:20251026T010000
END:STANDARD
END:VTIMEZONE
BEGIN:VEVENT
DTSTART;TZID=Europe/Paris:20240501T080000
DTEND;TZID=Europe/Paris:20240501T170000
DTSTAMP:20260424T122306
CREATED:20231114T151136Z
LAST-MODIFIED:20231114T151137Z
UID:7351-1714550400-1714582800@equiliberte.org
SUMMARY:Rallye des Rébus (37)
DESCRIPTION:
URL:https://equiliberte.org/event/rallye-des-rebus-37/
CATEGORIES:Randonnée
ATTACH;FMTTYPE=image/png:https://equiliberte.org/wp-content/uploads/2023/11/logo-37420-acave.png
END:VEVENT
BEGIN:VEVENT
DTSTART;TZID=Europe/Paris:20240501T080000
DTEND;TZID=Europe/Paris:20240501T170000
DTSTAMP:20260424T122306
CREATED:20240109T152333Z
LAST-MODIFIED:20240109T152334Z
UID:7670-1714550400-1714582800@equiliberte.org
SUMMARY:Rando à Chazemais (03)
DESCRIPTION:
URL:https://equiliberte.org/event/rando-a-chazemais-03/
LOCATION:bourg\, Chazemais\, 03370
CATEGORIES:Randonnée
ATTACH;FMTTYPE=image/jpeg:https://equiliberte.org/wp-content/uploads/2022/12/logo-03440-ACRMA.jpg
END:VEVENT
BEGIN:VEVENT
DTSTART;TZID=Europe/Paris:20240501T080000
DTEND;TZID=Europe/Paris:20240501T170000
DTSTAMP:20260424T122306
CREATED:20240228T203851Z
LAST-MODIFIED:20240228T203852Z
UID:8300-1714550400-1714582800@equiliberte.org
SUMMARY:Rallye à Zudausques (62)
DESCRIPTION:
URL:https://equiliberte.org/event/rallye-a-zudausques-62/
LOCATION:2 chemin des lilas\, Zudausques\, 62500
CATEGORIES:Randonnée
END:VEVENT
END:VCALENDAR