BEGIN:VCALENDAR
VERSION:2.0
PRODID:-//ÉquiLiberté - ECPv6.15.13.1//NONSGML v1.0//EN
CALSCALE:GREGORIAN
METHOD:PUBLISH
X-WR-CALNAME:ÉquiLiberté
X-ORIGINAL-URL:https://equiliberte.org
X-WR-CALDESC:Évènements pour ÉquiLiberté
REFRESH-INTERVAL;VALUE=DURATION:PT1H
X-Robots-Tag:noindex
X-PUBLISHED-TTL:PT1H
BEGIN:VTIMEZONE
TZID:Europe/Paris
BEGIN:DAYLIGHT
TZOFFSETFROM:+0100
TZOFFSETTO:+0200
TZNAME:CEST
DTSTART:20220327T010000
END:DAYLIGHT
BEGIN:STANDARD
TZOFFSETFROM:+0200
TZOFFSETTO:+0100
TZNAME:CET
DTSTART:20221030T010000
END:STANDARD
BEGIN:DAYLIGHT
TZOFFSETFROM:+0100
TZOFFSETTO:+0200
TZNAME:CEST
DTSTART:20230326T010000
END:DAYLIGHT
BEGIN:STANDARD
TZOFFSETFROM:+0200
TZOFFSETTO:+0100
TZNAME:CET
DTSTART:20231029T010000
END:STANDARD
BEGIN:DAYLIGHT
TZOFFSETFROM:+0100
TZOFFSETTO:+0200
TZNAME:CEST
DTSTART:20240331T010000
END:DAYLIGHT
BEGIN:STANDARD
TZOFFSETFROM:+0200
TZOFFSETTO:+0100
TZNAME:CET
DTSTART:20241027T010000
END:STANDARD
END:VTIMEZONE
BEGIN:VEVENT
DTSTART;TZID=Europe/Paris:20230924T080000
DTEND;TZID=Europe/Paris:20230924T170000
DTSTAMP:20260425T021211
CREATED:20221215T080055Z
LAST-MODIFIED:20221225T160537Z
UID:5132-1695542400-1695574800@equiliberte.org
SUMMARY:Rando Souvenir (78)
DESCRIPTION:secteur Rosny-sur-Seine
URL:https://equiliberte.org/event/rando-souvenir/
CATEGORIES:Randonnée
ATTACH;FMTTYPE=image/jpeg:https://equiliberte.org/wp-content/uploads/2022/12/logo-78630-equitey.jpg
END:VEVENT
BEGIN:VEVENT
DTSTART;TZID=Europe/Paris:20230924T080000
DTEND;TZID=Europe/Paris:20230924T170000
DTSTAMP:20260425T021211
CREATED:20230911T101939Z
LAST-MODIFIED:20230911T101940Z
UID:6982-1695542400-1695574800@equiliberte.org
SUMMARY:Randonnée du Vignoble (44)
DESCRIPTION:
URL:https://equiliberte.org/event/randonnee-du-vignoble-44/
LOCATION:terrain de AAC\, 1210 rue de l'Arche\, Basse Goulaine\, 44115
CATEGORIES:Randonnée
END:VEVENT
END:VCALENDAR