BEGIN:VCALENDAR
VERSION:2.0
PRODID:-//ÉquiLiberté - ECPv6.15.13.1//NONSGML v1.0//EN
CALSCALE:GREGORIAN
METHOD:PUBLISH
X-ORIGINAL-URL:https://equiliberte.org
X-WR-CALDESC:Évènements pour ÉquiLiberté
REFRESH-INTERVAL;VALUE=DURATION:PT1H
X-Robots-Tag:noindex
X-PUBLISHED-TTL:PT1H
BEGIN:VTIMEZONE
TZID:Europe/Paris
BEGIN:DAYLIGHT
TZOFFSETFROM:+0100
TZOFFSETTO:+0200
TZNAME:CEST
DTSTART:20220327T010000
END:DAYLIGHT
BEGIN:STANDARD
TZOFFSETFROM:+0200
TZOFFSETTO:+0100
TZNAME:CET
DTSTART:20221030T010000
END:STANDARD
BEGIN:DAYLIGHT
TZOFFSETFROM:+0100
TZOFFSETTO:+0200
TZNAME:CEST
DTSTART:20230326T010000
END:DAYLIGHT
BEGIN:STANDARD
TZOFFSETFROM:+0200
TZOFFSETTO:+0100
TZNAME:CET
DTSTART:20231029T010000
END:STANDARD
BEGIN:DAYLIGHT
TZOFFSETFROM:+0100
TZOFFSETTO:+0200
TZNAME:CEST
DTSTART:20240331T010000
END:DAYLIGHT
BEGIN:STANDARD
TZOFFSETFROM:+0200
TZOFFSETTO:+0100
TZNAME:CET
DTSTART:20241027T010000
END:STANDARD
END:VTIMEZONE
BEGIN:VEVENT
DTSTART;TZID=Europe/Paris:20230716T080000
DTEND;TZID=Europe/Paris:20230716T170000
DTSTAMP:20260425T054056
CREATED:20230119T200257Z
LAST-MODIFIED:20230624T210314Z
UID:5717-1689494400-1689526800@equiliberte.org
SUMMARY:Randonnée à Jarnac-Champagne (17520)
DESCRIPTION:Organisée par l’association les Sabots Verts dans la commune de Jarnac-Champagne(17520) renseignements 06 89 95 25 58. inscriptions : 06 33 18 84 76
URL:https://equiliberte.org/event/randonnee-a-jarnac-champagne-17520/
LOCATION:le Raz\, Jarnac Champagne\, 17520
CATEGORIES:Randonnée
END:VEVENT
END:VCALENDAR