BEGIN:VCALENDAR
VERSION:2.0
PRODID:-//ÉquiLiberté - ECPv6.15.13.1//NONSGML v1.0//EN
CALSCALE:GREGORIAN
METHOD:PUBLISH
X-ORIGINAL-URL:https://equiliberte.org
X-WR-CALDESC:Évènements pour ÉquiLiberté
REFRESH-INTERVAL;VALUE=DURATION:PT1H
X-Robots-Tag:noindex
X-PUBLISHED-TTL:PT1H
BEGIN:VTIMEZONE
TZID:Europe/Paris
BEGIN:DAYLIGHT
TZOFFSETFROM:+0100
TZOFFSETTO:+0200
TZNAME:CEST
DTSTART:20220327T010000
END:DAYLIGHT
BEGIN:STANDARD
TZOFFSETFROM:+0200
TZOFFSETTO:+0100
TZNAME:CET
DTSTART:20221030T010000
END:STANDARD
BEGIN:DAYLIGHT
TZOFFSETFROM:+0100
TZOFFSETTO:+0200
TZNAME:CEST
DTSTART:20230326T010000
END:DAYLIGHT
BEGIN:STANDARD
TZOFFSETFROM:+0200
TZOFFSETTO:+0100
TZNAME:CET
DTSTART:20231029T010000
END:STANDARD
BEGIN:DAYLIGHT
TZOFFSETFROM:+0100
TZOFFSETTO:+0200
TZNAME:CEST
DTSTART:20240331T010000
END:DAYLIGHT
BEGIN:STANDARD
TZOFFSETFROM:+0200
TZOFFSETTO:+0100
TZNAME:CET
DTSTART:20241027T010000
END:STANDARD
END:VTIMEZONE
BEGIN:VEVENT
DTSTART;TZID=Europe/Paris:20230305T080000
DTEND;TZID=Europe/Paris:20230305T170000
DTSTAMP:20260425T133510
CREATED:20221215T075658Z
LAST-MODIFIED:20230227T165134Z
UID:5124-1678003200-1678035600@equiliberte.org
SUMMARY:Rando Resto (78)
DESCRIPTION:La Rando-Resto d’Equi’tey dans l’un des lieux exceptionnels de courses de trot\, ça vous dit ? Inscrivez vous pour participer à ce rdv donné à l’hippodrome de Rambouillet le dimanche 5 mars à 9h ! \n\n\n\nNous serons les derniers à avoir le lieu rien que pour nous avant que la saison de courses ne démarre et ne soit envahi de jeunes chevaux\, jockeys et drivers ! La piste de courses leur est évidemment réservée (interdit de l’emprunter lors de notre venue). \n\n\n\nNous profiterons d’une belle boucle d’environ 25km dans la forêt de Rambouillet\, côté sud-est que nous explorons rarement puisque les accès les plus aisés pour garer nos vans et camions se situent plus à l’ouest !
URL:https://equiliberte.org/event/rando-resto/
CATEGORIES:Randonnée
ATTACH;FMTTYPE=image/jpeg:https://equiliberte.org/wp-content/uploads/2022/12/logo-78630-equitey.jpg
END:VEVENT
BEGIN:VEVENT
DTSTART;TZID=Europe/Paris:20230305T080000
DTEND;TZID=Europe/Paris:20230305T170000
DTSTAMP:20260425T133510
CREATED:20230227T164757Z
LAST-MODIFIED:20230227T164759Z
UID:6090-1678003200-1678035600@equiliberte.org
SUMMARY:Rando à Rabastens (81)
DESCRIPTION:Organisé par les Crins du Ramel\, cliquez sur l’affiche pour plus d’infos
URL:https://equiliberte.org/event/rando-a-rabastens-81/
LOCATION:Rabastens\, Auzerals\, 81800 Rabastens
CATEGORIES:Randonnée
END:VEVENT
END:VCALENDAR