BEGIN:VCALENDAR
VERSION:2.0
PRODID:-//ÉquiLiberté - ECPv6.15.13.1//NONSGML v1.0//EN
CALSCALE:GREGORIAN
METHOD:PUBLISH
X-WR-CALNAME:ÉquiLiberté
X-ORIGINAL-URL:https://equiliberte.org
X-WR-CALDESC:Évènements pour ÉquiLiberté
REFRESH-INTERVAL;VALUE=DURATION:PT1H
X-Robots-Tag:noindex
X-PUBLISHED-TTL:PT1H
BEGIN:VTIMEZONE
TZID:Europe/Paris
BEGIN:DAYLIGHT
TZOFFSETFROM:+0100
TZOFFSETTO:+0200
TZNAME:CEST
DTSTART:20220327T010000
END:DAYLIGHT
BEGIN:STANDARD
TZOFFSETFROM:+0200
TZOFFSETTO:+0100
TZNAME:CET
DTSTART:20221030T010000
END:STANDARD
BEGIN:DAYLIGHT
TZOFFSETFROM:+0100
TZOFFSETTO:+0200
TZNAME:CEST
DTSTART:20230326T010000
END:DAYLIGHT
BEGIN:STANDARD
TZOFFSETFROM:+0200
TZOFFSETTO:+0100
TZNAME:CET
DTSTART:20231029T010000
END:STANDARD
BEGIN:DAYLIGHT
TZOFFSETFROM:+0100
TZOFFSETTO:+0200
TZNAME:CEST
DTSTART:20240331T010000
END:DAYLIGHT
BEGIN:STANDARD
TZOFFSETFROM:+0200
TZOFFSETTO:+0100
TZNAME:CET
DTSTART:20241027T010000
END:STANDARD
END:VTIMEZONE
BEGIN:VEVENT
DTSTART;TZID=Europe/Paris:20230219T080000
DTEND;TZID=Europe/Paris:20230219T170000
DTSTAMP:20260425T133118
CREATED:20230121T214846Z
LAST-MODIFIED:20230121T215034Z
UID:5748-1676793600-1676826000@equiliberte.org
SUMMARY:Randonnée des Crêpes (31)
DESCRIPTION:Pour la première Rieumoise de l’année 2023\, nous vous proposons d’allier balade à cheval et dégustation de crêpes. \n\n\n\nLe dimanche 19 février au départ de Rieumes en direction de la Ferme Équestre Des Lavandes \n\n\n\nPour rappel\, une Rieumoise est une balade à thème qui ouvre les portes de notre association de cavaliers randonneur dans la zone de Rieumes à tous le monde\, et GRATUITEMENT
URL:https://equiliberte.org/event/randonnee-des-crepes/
CATEGORIES:Randonnée
END:VEVENT
END:VCALENDAR