BEGIN:VCALENDAR
VERSION:2.0
PRODID:-//ÉquiLiberté - ECPv6.15.13.1//NONSGML v1.0//EN
CALSCALE:GREGORIAN
METHOD:PUBLISH
X-ORIGINAL-URL:https://equiliberte.org
X-WR-CALDESC:Évènements pour ÉquiLiberté
REFRESH-INTERVAL;VALUE=DURATION:PT1H
X-Robots-Tag:noindex
X-PUBLISHED-TTL:PT1H
BEGIN:VTIMEZONE
TZID:Europe/Paris
BEGIN:DAYLIGHT
TZOFFSETFROM:+0100
TZOFFSETTO:+0200
TZNAME:CEST
DTSTART:20210328T010000
END:DAYLIGHT
BEGIN:STANDARD
TZOFFSETFROM:+0200
TZOFFSETTO:+0100
TZNAME:CET
DTSTART:20211031T010000
END:STANDARD
BEGIN:DAYLIGHT
TZOFFSETFROM:+0100
TZOFFSETTO:+0200
TZNAME:CEST
DTSTART:20220327T010000
END:DAYLIGHT
BEGIN:STANDARD
TZOFFSETFROM:+0200
TZOFFSETTO:+0100
TZNAME:CET
DTSTART:20221030T010000
END:STANDARD
BEGIN:DAYLIGHT
TZOFFSETFROM:+0100
TZOFFSETTO:+0200
TZNAME:CEST
DTSTART:20230326T010000
END:DAYLIGHT
BEGIN:STANDARD
TZOFFSETFROM:+0200
TZOFFSETTO:+0100
TZNAME:CET
DTSTART:20231029T010000
END:STANDARD
END:VTIMEZONE
BEGIN:VEVENT
DTSTART;TZID=Europe/Paris:20220911T000000
DTEND;TZID=Europe/Paris:20220911T235959
DTSTAMP:20260425T215055
CREATED:20220601T094348Z
LAST-MODIFIED:20221201T193032Z
UID:4131-1662854400-1662940799@equiliberte.org
SUMMARY:Rallye équestre à Tartas (40 - Landes)
DESCRIPTION:Organisé par la toute nouvelle association EquiLiberté « Les Cavalières du Dimanche »
URL:https://equiliberte.org/event/rallye-equestre-a-tartas-44-landes/
CATEGORIES:Randonnée
END:VEVENT
BEGIN:VEVENT
DTSTART;TZID=Europe/Paris:20220911T000000
DTEND;TZID=Europe/Paris:20220911T235959
DTSTAMP:20260425T215055
CREATED:20220807T182116Z
LAST-MODIFIED:20221201T193025Z
UID:4303-1662854400-1662940799@equiliberte.org
SUMMARY:Rallye de Salviac (46)
DESCRIPTION:Rallye annuel de l’Association le Cheval en Pays de Salviac
URL:https://equiliberte.org/event/rallye-de-salviac-46/
CATEGORIES:Randonnée
END:VEVENT
BEGIN:VEVENT
DTSTART;TZID=Europe/Paris:20220911T080000
DTEND;TZID=Europe/Paris:20220911T170000
DTSTAMP:20260425T215055
CREATED:20220901T162824Z
LAST-MODIFIED:20221201T193013Z
UID:4345-1662883200-1662915600@equiliberte.org
SUMMARY:Rando Braye sous Faye 37
DESCRIPTION:Circuit fléché d’environ 25kms. Accueil à partir de 9h. Pique nique tiré du sac \n\n\n\nOrganisée par Les Amis du Cheval du Laudounais \n\n\n\nInscriptions renseignements 06 21 43 54 64 avant le 8 septembre \n\n\n\nTarif 8€
URL:https://equiliberte.org/event/rando-braye-sous-faye-37/
CATEGORIES:Randonnée
END:VEVENT
BEGIN:VEVENT
DTSTART;TZID=Europe/Paris:20220911T083000
DTEND;TZID=Europe/Paris:20220911T170000
DTSTAMP:20260425T215055
CREATED:20220901T164848Z
LAST-MODIFIED:20221201T193004Z
UID:4352-1662885000-1662915600@equiliberte.org
SUMMARY:4ème Rando des Mauges à Andrezé 49600
DESCRIPTION:Départ site du kart cross. Parcours balisé de 25kms. Accueil+café à partir de 8h30. Départ libre de 9h à 10h. Apéritif repas chaud à l’arrivée \n\n\n\nOrganisée par l’association Attelages Cavaliers des Mauges \n\n\n\nInfos inscription : Jean-Marc 06 81 30 41 42 ou Jean-Pierre 06 75 95 96 86
URL:https://equiliberte.org/event/4eme-rando-des-mauges-a-andreze-49600/
CATEGORIES:Randonnée
END:VEVENT
END:VCALENDAR