BEGIN:VCALENDAR
VERSION:2.0
PRODID:-//ÉquiLiberté - ECPv6.15.13.1//NONSGML v1.0//EN
CALSCALE:GREGORIAN
METHOD:PUBLISH
X-WR-CALNAME:ÉquiLiberté
X-ORIGINAL-URL:https://equiliberte.org
X-WR-CALDESC:Évènements pour ÉquiLiberté
REFRESH-INTERVAL;VALUE=DURATION:PT1H
X-Robots-Tag:noindex
X-PUBLISHED-TTL:PT1H
BEGIN:VTIMEZONE
TZID:Europe/Paris
BEGIN:DAYLIGHT
TZOFFSETFROM:+0100
TZOFFSETTO:+0200
TZNAME:CEST
DTSTART:20210328T010000
END:DAYLIGHT
BEGIN:STANDARD
TZOFFSETFROM:+0200
TZOFFSETTO:+0100
TZNAME:CET
DTSTART:20211031T010000
END:STANDARD
BEGIN:DAYLIGHT
TZOFFSETFROM:+0100
TZOFFSETTO:+0200
TZNAME:CEST
DTSTART:20220327T010000
END:DAYLIGHT
BEGIN:STANDARD
TZOFFSETFROM:+0200
TZOFFSETTO:+0100
TZNAME:CET
DTSTART:20221030T010000
END:STANDARD
BEGIN:DAYLIGHT
TZOFFSETFROM:+0100
TZOFFSETTO:+0200
TZNAME:CEST
DTSTART:20230326T010000
END:DAYLIGHT
BEGIN:STANDARD
TZOFFSETFROM:+0200
TZOFFSETTO:+0100
TZNAME:CET
DTSTART:20231029T010000
END:STANDARD
END:VTIMEZONE
BEGIN:VEVENT
DTSTART;TZID=Europe/Paris:20220828T080000
DTEND;TZID=Europe/Paris:20220828T200000
DTSTAMP:20260425T232137
CREATED:20220416T144944Z
LAST-MODIFIED:20221201T193159Z
UID:3913-1661673600-1661716800@equiliberte.org
SUMMARY:31ème Rallye équestre REVA Deux-Sèvres
DESCRIPTION:Renseignements : 06 07 91 86 70 \n\n\n\nhttps://equiliberte79.com/index.php/nos-manifestations/toute-l-actualite-d-equiliberte-79/rallye-du-pin \n\n\n\nRendez-vous au stade municipal \n\n\n\nInscriptions à partir de 8h30 \n\n\n\nPique nique compris \n\n\n\nParcours fléché \n\n\n\nVerre de l’amitié \n\n\n\nRemise des lots \n\n\n\nAssiette garnie
URL:https://equiliberte.org/event/31eme-rallye-equestre-reva/
CATEGORIES:Randonnée
END:VEVENT
END:VCALENDAR