BEGIN:VCALENDAR
VERSION:2.0
PRODID:-//ÉquiLiberté - ECPv6.15.13.1//NONSGML v1.0//EN
CALSCALE:GREGORIAN
METHOD:PUBLISH
X-ORIGINAL-URL:https://equiliberte.org
X-WR-CALDESC:Évènements pour ÉquiLiberté
REFRESH-INTERVAL;VALUE=DURATION:PT1H
X-Robots-Tag:noindex
X-PUBLISHED-TTL:PT1H
BEGIN:VTIMEZONE
TZID:Europe/Paris
BEGIN:DAYLIGHT
TZOFFSETFROM:+0100
TZOFFSETTO:+0200
TZNAME:CEST
DTSTART:20210328T010000
END:DAYLIGHT
BEGIN:STANDARD
TZOFFSETFROM:+0200
TZOFFSETTO:+0100
TZNAME:CET
DTSTART:20211031T010000
END:STANDARD
BEGIN:DAYLIGHT
TZOFFSETFROM:+0100
TZOFFSETTO:+0200
TZNAME:CEST
DTSTART:20220327T010000
END:DAYLIGHT
BEGIN:STANDARD
TZOFFSETFROM:+0200
TZOFFSETTO:+0100
TZNAME:CET
DTSTART:20221030T010000
END:STANDARD
BEGIN:DAYLIGHT
TZOFFSETFROM:+0100
TZOFFSETTO:+0200
TZNAME:CEST
DTSTART:20230326T010000
END:DAYLIGHT
BEGIN:STANDARD
TZOFFSETFROM:+0200
TZOFFSETTO:+0100
TZNAME:CET
DTSTART:20231029T010000
END:STANDARD
END:VTIMEZONE
BEGIN:VEVENT
DTSTART;TZID=Europe/Paris:20220703T000000
DTEND;TZID=Europe/Paris:20220703T235959
DTSTAMP:20260426T010123
CREATED:20220530T170348Z
LAST-MODIFIED:20221202T194840Z
UID:4123-1656806400-1656892799@equiliberte.org
SUMMARY:Rallye de Lunegarde (46 - Lot)
DESCRIPTION:Organisé par Sabine\, dans le cadre des acticités de l’Association Le Cheval en Pays de Salviac \n\n\n\nOuvert aux attelages (sur carte)
URL:https://equiliberte.org/event/rallye-de-lunegarde-46-lot/
CATEGORIES:Randonnée
END:VEVENT
BEGIN:VEVENT
DTSTART;TZID=Europe/Paris:20220703T000000
DTEND;TZID=Europe/Paris:20220703T235959
DTSTAMP:20260426T010123
CREATED:20220604T122012Z
LAST-MODIFIED:20221202T194845Z
UID:4141-1656806400-1656892799@equiliberte.org
SUMMARY:Rallye Champêtre autour de Sebourg (59)
DESCRIPTION:Rallye ouvert aux attelages\, cavaliers\, et VTTistes\, organisé par les Crins de Sebourg 59990l’itinéraire fait 23 km\, avec un raccourci possible\, de 19 km
URL:https://equiliberte.org/event/rallye-champetre-autour-de-sebourg-59/
CATEGORIES:Randonnée
END:VEVENT
BEGIN:VEVENT
DTSTART;TZID=Europe/Paris:20220703T080000
DTEND;TZID=Europe/Paris:20220703T170000
DTSTAMP:20260426T010123
CREATED:20220315T082946Z
LAST-MODIFIED:20220316T155513Z
UID:3729-1656835200-1656867600@equiliberte.org
SUMMARY:Rallye de la Vaubaillou Nueil-les-Aubiers 79250
DESCRIPTION:https://equiliberte79.com/index.php/nos-manifestations/toute-l-actualite-d-equiliberte-79/rallye-la-vaubaillou \n\n\n\n26ème édition \n\n\n\nEquilIbertains cavaliers et meneurs\, pédestres\, VTT : 8€ . Autres randonneurs 10€  \n\n\n\nContact : 06 32 40 25 ou 06 31 43 90 18 \n\n\n\nInscription avant le 24 juin \n\n\n\nAccueil café gâteaux apéro pause sandwichs \n\n\n\nVin d’honneur\, dîner sur réservation en supplément
URL:https://equiliberte.org/event/26eme-rallye-de-la-vaubaillou-nueil-les-aubiers-79250/
CATEGORIES:Randonnée
END:VEVENT
BEGIN:VEVENT
DTSTART;TZID=Europe/Paris:20220703T080000
DTEND;TZID=Europe/Paris:20220703T170000
DTSTAMP:20260426T010123
CREATED:20220622T095221Z
LAST-MODIFIED:20221202T194850Z
UID:4156-1656835200-1656867600@equiliberte.org
SUMMARY:Randonnée Saint-Dizier-Masbarault .23400
DESCRIPTION:Circuit balisé\, ombragé et roulant  \n\n\n\n30km pour cavaliers et attelages \n\n\n\n5€ avant le 01/07/2022 \n\n\n\nContact : 06 42 84 14 15 ou 06 71 22 66 23
URL:https://equiliberte.org/event/randonnee-saint-dizier-23400/
CATEGORIES:Randonnée
END:VEVENT
BEGIN:VEVENT
DTSTART;TZID=Europe/Paris:20220703T080000
DTEND;TZID=Europe/Paris:20220703T170000
DTSTAMP:20260426T010123
CREATED:20220624T145636Z
LAST-MODIFIED:20221202T194916Z
UID:4170-1656835200-1656867600@equiliberte.org
SUMMARY:Balade Équestre Cherac 17610
DESCRIPTION:6€ cavaliers/meneurs \n\n\n\n23km sur les bords du fleuve Charente avec casse-croûte  \n\n\n\nPossibilité d’arriver la veille \n\n\n\nContact 06 82 75 81 00 ou lesamisdeschevauxdesaintleger@hotmail.fr
URL:https://equiliberte.org/event/balade-equestre-cherac-17610/
CATEGORIES:Randonnée
END:VEVENT
END:VCALENDAR