BEGIN:VCALENDAR
VERSION:2.0
PRODID:-//ÉquiLiberté - ECPv6.15.13.1//NONSGML v1.0//EN
CALSCALE:GREGORIAN
METHOD:PUBLISH
X-ORIGINAL-URL:https://equiliberte.org
X-WR-CALDESC:Évènements pour ÉquiLiberté
REFRESH-INTERVAL;VALUE=DURATION:PT1H
X-Robots-Tag:noindex
X-PUBLISHED-TTL:PT1H
BEGIN:VTIMEZONE
TZID:Europe/Paris
BEGIN:DAYLIGHT
TZOFFSETFROM:+0100
TZOFFSETTO:+0200
TZNAME:CEST
DTSTART:20210328T010000
END:DAYLIGHT
BEGIN:STANDARD
TZOFFSETFROM:+0200
TZOFFSETTO:+0100
TZNAME:CET
DTSTART:20211031T010000
END:STANDARD
BEGIN:DAYLIGHT
TZOFFSETFROM:+0100
TZOFFSETTO:+0200
TZNAME:CEST
DTSTART:20220327T010000
END:DAYLIGHT
BEGIN:STANDARD
TZOFFSETFROM:+0200
TZOFFSETTO:+0100
TZNAME:CET
DTSTART:20221030T010000
END:STANDARD
BEGIN:DAYLIGHT
TZOFFSETFROM:+0100
TZOFFSETTO:+0200
TZNAME:CEST
DTSTART:20230326T010000
END:DAYLIGHT
BEGIN:STANDARD
TZOFFSETFROM:+0200
TZOFFSETTO:+0100
TZNAME:CET
DTSTART:20231029T010000
END:STANDARD
END:VTIMEZONE
BEGIN:VEVENT
DTSTART;TZID=Europe/Paris:20220619T000000
DTEND;TZID=Europe/Paris:20220619T235959
DTSTAMP:20260426T024721
CREATED:20220524T185351Z
LAST-MODIFIED:20221202T194824Z
UID:4105-1655596800-1655683199@equiliberte.org
SUMMARY:Randonnée d'Aggripa au coeur du marais poitevin (85)
DESCRIPTION:Cette année les parcours Pédestres\, Equestres et VTC de la randonnée d’Agrippa vous conduiront vers le secteur Nord /Est de Maillé.Grâce au partenariat avec les services du patrimoine de la Vendée les chevaux auront à nouveau le privilège de traverser le parc de l’Abbaye de Maillezais\, permettant ainsi  de découvrir un haut lieu où séjourna Agrippa d’Aubigné.Sans restriction Covid\, nous retrouverons la formule « complète » de notre journée conviviale avec le café / brioche au départ\, le ravitaillement « grillades » sur le parcours et le repas de l’amitié à l’arrivée. Les tarifs :Forfait Randonnée + Repas de l’amitié à l’arrivée : adulte 16 €\, enfant (-12 ans) 5 €Randonnée seule : adulte 9 €\, enfant (-12ans) gratuitRepas de l’amitié seul: adulte 12 € (boisson comprise) enfant (-12 ans) 5 €Café brioche au départ et grillades / ravitaillement sur le parcours inclus.+ Eco gobelet consigne 1€ récupérable à la salle polyvalente où sera servi le repas Nous espérons vous retrouver nombreux avec nous sur les chemins du marais
URL:https://equiliberte.org/event/randonnee-daggripa-au-coeur-du-marais-poitevin-85/
CATEGORIES:Randonnée
ATTACH;FMTTYPE=image/jpeg:https://equiliberte.org/wp-content/uploads/2022/05/P1070936L.jpg
END:VEVENT
BEGIN:VEVENT
DTSTART;TZID=Europe/Paris:20220619T000000
DTEND;TZID=Europe/Paris:20220619T235959
DTSTAMP:20260426T024721
CREATED:20220610T075709Z
LAST-MODIFIED:20221202T194834Z
UID:4148-1655596800-1655683199@equiliberte.org
SUMMARY:Les Sabots Verts à Angeac Champagne (16130)
DESCRIPTION:
URL:https://equiliberte.org/event/les-sabots-verts-a-angeac-champagne-16130/
CATEGORIES:Randonnée
END:VEVENT
BEGIN:VEVENT
DTSTART;TZID=Europe/Paris:20220619T080000
DTEND;TZID=Europe/Paris:20220619T170000
DTSTAMP:20260426T024721
CREATED:20220311T171024Z
LAST-MODIFIED:20220316T155543Z
UID:3654-1655625600-1655658000@equiliberte.org
SUMMARY:Rando du Maréchal Ferrant La Chapelle-saint-Laurent 79430
DESCRIPTION:https://equiliberte79.com/index.php/nos-manifestations/toute-l-actualite-d-equiliberte-79/rando-marechal-ferrant-2019e  \n\n\n\n8€ pour les EquiLibertains . 10€ pour les autres randonneurs \n\n\n\nAttelages Cavaliers VTT  \n\n\n\nCircuits de 20 et 28 km \n\n\n\nPossibilité de bivouac la veille
URL:https://equiliberte.org/event/rando-du-marechal-ferrant-la-capelle-saint-laurent-79430/
CATEGORIES:Randonnée
END:VEVENT
END:VCALENDAR