BEGIN:VCALENDAR
VERSION:2.0
PRODID:-//ÉquiLiberté - ECPv6.15.13.1//NONSGML v1.0//EN
CALSCALE:GREGORIAN
METHOD:PUBLISH
X-ORIGINAL-URL:https://equiliberte.org
X-WR-CALDESC:Évènements pour ÉquiLiberté
REFRESH-INTERVAL;VALUE=DURATION:PT1H
X-Robots-Tag:noindex
X-PUBLISHED-TTL:PT1H
BEGIN:VTIMEZONE
TZID:Europe/Paris
BEGIN:DAYLIGHT
TZOFFSETFROM:+0100
TZOFFSETTO:+0200
TZNAME:CEST
DTSTART:20210328T010000
END:DAYLIGHT
BEGIN:STANDARD
TZOFFSETFROM:+0200
TZOFFSETTO:+0100
TZNAME:CET
DTSTART:20211031T010000
END:STANDARD
BEGIN:DAYLIGHT
TZOFFSETFROM:+0100
TZOFFSETTO:+0200
TZNAME:CEST
DTSTART:20220327T010000
END:DAYLIGHT
BEGIN:STANDARD
TZOFFSETFROM:+0200
TZOFFSETTO:+0100
TZNAME:CET
DTSTART:20221030T010000
END:STANDARD
BEGIN:DAYLIGHT
TZOFFSETFROM:+0100
TZOFFSETTO:+0200
TZNAME:CEST
DTSTART:20230326T010000
END:DAYLIGHT
BEGIN:STANDARD
TZOFFSETFROM:+0200
TZOFFSETTO:+0100
TZNAME:CET
DTSTART:20231029T010000
END:STANDARD
BEGIN:DAYLIGHT
TZOFFSETFROM:+0100
TZOFFSETTO:+0200
TZNAME:CEST
DTSTART:20240331T010000
END:DAYLIGHT
BEGIN:STANDARD
TZOFFSETFROM:+0200
TZOFFSETTO:+0100
TZNAME:CET
DTSTART:20241027T010000
END:STANDARD
BEGIN:DAYLIGHT
TZOFFSETFROM:+0100
TZOFFSETTO:+0200
TZNAME:CEST
DTSTART:20250330T010000
END:DAYLIGHT
BEGIN:STANDARD
TZOFFSETFROM:+0200
TZOFFSETTO:+0100
TZNAME:CET
DTSTART:20251026T010000
END:STANDARD
BEGIN:DAYLIGHT
TZOFFSETFROM:+0100
TZOFFSETTO:+0200
TZNAME:CEST
DTSTART:20260329T010000
END:DAYLIGHT
BEGIN:STANDARD
TZOFFSETFROM:+0200
TZOFFSETTO:+0100
TZNAME:CET
DTSTART:20261025T010000
END:STANDARD
END:VTIMEZONE
BEGIN:VEVENT
DTSTART;TZID=Europe/Paris:20251005T000000
DTEND;TZID=Europe/Paris:20251005T235959
DTSTAMP:20260426T043506
CREATED:20220524T094120Z
LAST-MODIFIED:20250209T172832Z
UID:4092-1759622400-1759708799@equiliberte.org
SUMMARY:Randonnée à St Priest la Feuille (23)
DESCRIPTION:Organisée par l’association La Marche au Trot
URL:https://equiliberte.org/event/randonnee-au-pays-des-millevaches-23/
LOCATION:le bourg\, St Priest la Feuille\, 23300
CATEGORIES:Randonnée
ATTACH;FMTTYPE=image/jpeg:https://equiliberte.org/wp-content/uploads/2022/12/logo-23300-la-marche-au-trot.jpg
END:VEVENT
BEGIN:VEVENT
DTSTART;TZID=Europe/Paris:20220605T080000
DTEND;TZID=Europe/Paris:20220605T170000
DTSTAMP:20260426T043507
CREATED:20220311T170251Z
LAST-MODIFIED:20220316T155719Z
UID:3648-1654416000-1654448400@equiliberte.org
SUMMARY:Rando de l'ARB Saint-Aubin-du-Plain 79300
DESCRIPTION:site https://equiliberte79.com/index.php/nos-manifestations/toute-l-actualite-d-equiliberte-79/rando-arb \n\n\n\nRéservation avant le 29 mai \n\n\n\n8€ pour les EquiLIbertains 10€ pour les autres randonneurs 6€ marcheurs \n\n\n\nContact : 06 78 47 87 89 ou 07 71 01 33 96 \n\n\n\n10€ le repas \n\n\n\nCircuit 28km : cavaliers attelages VTT . marcheurs 8km
URL:https://equiliberte.org/event/rando-de-larb-saint-aubin-du-plain-79300/
CATEGORIES:Randonnée
END:VEVENT
END:VCALENDAR