BEGIN:VCALENDAR
VERSION:2.0
PRODID:-//ÉquiLiberté - ECPv6.15.13.1//NONSGML v1.0//EN
CALSCALE:GREGORIAN
METHOD:PUBLISH
X-ORIGINAL-URL:https://equiliberte.org
X-WR-CALDESC:Évènements pour ÉquiLiberté
REFRESH-INTERVAL;VALUE=DURATION:PT1H
X-Robots-Tag:noindex
X-PUBLISHED-TTL:PT1H
BEGIN:VTIMEZONE
TZID:Europe/Paris
BEGIN:DAYLIGHT
TZOFFSETFROM:+0100
TZOFFSETTO:+0200
TZNAME:CEST
DTSTART:20210328T010000
END:DAYLIGHT
BEGIN:STANDARD
TZOFFSETFROM:+0200
TZOFFSETTO:+0100
TZNAME:CET
DTSTART:20211031T010000
END:STANDARD
BEGIN:DAYLIGHT
TZOFFSETFROM:+0100
TZOFFSETTO:+0200
TZNAME:CEST
DTSTART:20220327T010000
END:DAYLIGHT
BEGIN:STANDARD
TZOFFSETFROM:+0200
TZOFFSETTO:+0100
TZNAME:CET
DTSTART:20221030T010000
END:STANDARD
BEGIN:DAYLIGHT
TZOFFSETFROM:+0100
TZOFFSETTO:+0200
TZNAME:CEST
DTSTART:20230326T010000
END:DAYLIGHT
BEGIN:STANDARD
TZOFFSETFROM:+0200
TZOFFSETTO:+0100
TZNAME:CET
DTSTART:20231029T010000
END:STANDARD
END:VTIMEZONE
BEGIN:VEVENT
DTSTART;TZID=Europe/Paris:20220529T080000
DTEND;TZID=Europe/Paris:20220529T190000
DTSTAMP:20260426T043440
CREATED:20220311T163641Z
LAST-MODIFIED:20220316T155829Z
UID:3631-1653811200-1653850800@equiliberte.org
SUMMARY:Rallye des Pelebois à Souvigné 79800
DESCRIPTION:https://equiliberte79.com/index.php/nos-manifestations/toute-l-actualite-d-equiliberte-79/rallye-pelebois \n\n\n\n8€ pour les EquiLibertains 10€ pour les autres randonneurs \n\n\n\n5€ pour les marcheurs \n\n\n\nContact : 06 16 73 16 47 ou 06 15 44 93 08 \n\n\n\nCircuit 25km cavaliers attelages VTT – 5km marcheurs \n\n\n\nAccueil café brioche à partir de 9h au foyer rural \n\n\n\nPot de m’amitié et pause gourmande offerts
URL:https://equiliberte.org/event/rallye-des-pelebois-a-souvigne-79800/
CATEGORIES:Randonnée
END:VEVENT
END:VCALENDAR