BEGIN:VCALENDAR
VERSION:2.0
PRODID:-//ÉquiLiberté - ECPv6.15.13.1//NONSGML v1.0//EN
CALSCALE:GREGORIAN
METHOD:PUBLISH
X-ORIGINAL-URL:https://equiliberte.org
X-WR-CALDESC:Évènements pour ÉquiLiberté
REFRESH-INTERVAL;VALUE=DURATION:PT1H
X-Robots-Tag:noindex
X-PUBLISHED-TTL:PT1H
BEGIN:VTIMEZONE
TZID:Europe/Paris
BEGIN:DAYLIGHT
TZOFFSETFROM:+0100
TZOFFSETTO:+0200
TZNAME:CEST
DTSTART:20230326T010000
END:DAYLIGHT
BEGIN:STANDARD
TZOFFSETFROM:+0200
TZOFFSETTO:+0100
TZNAME:CET
DTSTART:20231029T010000
END:STANDARD
BEGIN:DAYLIGHT
TZOFFSETFROM:+0100
TZOFFSETTO:+0200
TZNAME:CEST
DTSTART:20240331T010000
END:DAYLIGHT
BEGIN:STANDARD
TZOFFSETFROM:+0200
TZOFFSETTO:+0100
TZNAME:CET
DTSTART:20241027T010000
END:STANDARD
BEGIN:DAYLIGHT
TZOFFSETFROM:+0100
TZOFFSETTO:+0200
TZNAME:CEST
DTSTART:20250330T010000
END:DAYLIGHT
BEGIN:STANDARD
TZOFFSETFROM:+0200
TZOFFSETTO:+0100
TZNAME:CET
DTSTART:20251026T010000
END:STANDARD
END:VTIMEZONE
BEGIN:VEVENT
DTSTART;TZID=Europe/Paris:20240601T080000
DTEND;TZID=Europe/Paris:20240602T170000
DTSTAMP:20260420T153637
CREATED:20230303T221357Z
LAST-MODIFIED:20240512T180244Z
UID:6124-1717228800-1717347600@equiliberte.org
SUMMARY:WE Rando à Oudon (44)
DESCRIPTION:Organisé par Association Cheval Loisirs de la Cormerais. \n\n\n\nL’Association Cheval Loisirs de La Cormerais vous propose un week-end randonnéele samedi et/ou le dimanche 1er et 2 juin 2024\, sur les Bords de Loire à proximité de Oudon 44521\, ouvert aux cavaliers et attelages.Le rendez-vous est fixé le samedi 1er pour un départ à 14h00 d’une randonnée d’une vingtaine de km. L’adresse précise vous sera communiquée après votre confirmation.Une seconde randonnée débutera le dimanche 2 juin à 9h00 pour une vingtaine de km également.L’association organise le repas du samedi soir en vous proposant son cochon de lait\, le petit déjeuner et le repas du dimanche midi.Il vous restera à prévoir :–Vos couverts (assiette\, verre\, couverts\, bol et tasse …)–Votre couchage (camion\, tente\, et literie …)–Votre paddock \n\n\n\nPOUR VOTRE INSCRIPTION MERCI DE NOUS CONTACTER A L’ADRESSE MAIL : \n\n\n\nchevalloisirsheric@gmail.com \n\n\n\nN’oubliez pas votre pique-nique et vos couverts 
URL:https://equiliberte.org/event/rando-a-heric-44/
LOCATION:Bords de loire\, Oudon\, 44521
CATEGORIES:Randonnée
ATTACH;FMTTYPE=image/jpeg:https://equiliberte.org/wp-content/uploads/2024/05/2024-06-1-2-44-Cormerais.jpg
END:VEVENT
BEGIN:VEVENT
DTSTART;TZID=Europe/Paris:20240602T080000
DTEND;TZID=Europe/Paris:20240602T170000
DTSTAMP:20260420T153637
CREATED:20230131T134947Z
LAST-MODIFIED:20240509T155350Z
UID:5812-1717315200-1717347600@equiliberte.org
SUMMARY:Randonnée des Petits Ruisseaux (19)
DESCRIPTION:Randonnée pédestre et équestre\, initialement prévue le 5 mai\, reportée au 2 juin
URL:https://equiliberte.org/event/randonnee-des-petits-ruisseaux-19/
LOCATION:mairie\, Mansac\, 19520
CATEGORIES:Randonnée
ATTACH;FMTTYPE=image/jpeg:https://equiliberte.org/wp-content/uploads/2024/05/2024-06-02-19-mansac.jpg
END:VEVENT
BEGIN:VEVENT
DTSTART;TZID=Europe/Paris:20240602T080000
DTEND;TZID=Europe/Paris:20240602T170000
DTSTAMP:20260420T153637
CREATED:20240520T142210Z
LAST-MODIFIED:20240520T142211Z
UID:9275-1717315200-1717347600@equiliberte.org
SUMMARY:Equi Cyclo Tour de Goulaine (44)
DESCRIPTION:
URL:https://equiliberte.org/event/equi-cyclo-tour-de-goulaine-44/
LOCATION:le bourg\, Basse Goulaine\, 44115
CATEGORIES:Randonnée
ATTACH;FMTTYPE=image/jpeg:https://equiliberte.org/wp-content/uploads/2024/05/2024-06-02-44-Goulaine.jpg
END:VEVENT
BEGIN:VEVENT
DTSTART;TZID=Europe/Paris:20240609T080000
DTEND;TZID=Europe/Paris:20240609T170000
DTSTAMP:20260420T153637
CREATED:20230123T053057Z
LAST-MODIFIED:20240531T042623Z
UID:5758-1717920000-1717952400@equiliberte.org
SUMMARY:Bô Dimanche à Seuilly (37)
DESCRIPTION:Organisé par EquiLiberté37
URL:https://equiliberte.org/event/bo-dimanche-a-braslou-37/
LOCATION:Braslou\, Braslou\, 37120
CATEGORIES:Randonnée
ATTACH;FMTTYPE=image/jpeg:https://equiliberte.org/wp-content/uploads/2024/05/2024-06-09-37.jpg
END:VEVENT
BEGIN:VEVENT
DTSTART;TZID=Europe/Paris:20240623T080000
DTEND;TZID=Europe/Paris:20240623T170000
DTSTAMP:20260420T153637
CREATED:20230118T215212Z
LAST-MODIFIED:20240617T193713Z
UID:5642-1719129600-1719162000@equiliberte.org
SUMMARY:Bô Dimanche à Cloyes-les-3-Rivières (41)
DESCRIPTION:Renseignements et inscription bo-dimanches@equiliberte41.fr ou page Facebook EquiLiberté 41 \n\n\n\nQu’est-ce qu’un Bô Dimanche ? :  \n\n\n\nUn cavalier ou un groupe de cavaliers propose une sortie avec un itinéraire d’environ 25 km qu’il a défini\, propose aussi une date que nous communiquons. \n\n\n\nLa participation est de 5€ par participant\, gratuite pour les adhérents EquiLiberté. Il n’y a pas d’itinéraire balisé ni de fourniture de carte. L’itinéraire est envoyé par mail ou sur facebook\, à chacun de le récupérer comme il souhaite (les personnes qui ne savent pas lire une carte peuvent s’associer avec des gens qui savent lire une carte). \n\n\n\nLe repas est tiré des sacoches et pris en commun \, cela privilégie les contacts\, sur un lieu de pause défini au départ par l’auteur de la journée.Tout le monde peut participer\, les seuls impératifs étant d’être assurés (adhésion EquiLiberté ou FFE ou autre assurance)\, d’avoir des équidés identifiés et à jour de leurs vaccins et en mesure de faire la sortie.
URL:https://equiliberte.org/event/bo-dimanche-a-savigny-sur-braye-41/
LOCATION:Savigny-sur-Braye\, Savigny-sur-Braye\, 41360\, France
CATEGORIES:Randonnée
ATTACH;FMTTYPE=image/jpeg:https://equiliberte.org/wp-content/uploads/2024/06/447752275_872415968260448_5515726979792398777_n-1.jpg
ORGANIZER;CN="EquiLibert%C3%A9 41":MAILTO:equiliberte41@gmail.com
END:VEVENT
BEGIN:VEVENT
DTSTART;TZID=Europe/Paris:20240623T080000
DTEND;TZID=Europe/Paris:20240623T170000
DTSTAMP:20260420T153637
CREATED:20240206T180229Z
LAST-MODIFIED:20240520T181414Z
UID:8111-1719129600-1719162000@equiliberte.org
SUMMARY:Rando à Roullet (16)
DESCRIPTION:
URL:https://equiliberte.org/event/rando-a-roullet-16/
LOCATION:Espace Jean Paul Kerjean\, Roullet\, 16440
CATEGORIES:Randonnée
ATTACH;FMTTYPE=image/jpeg:https://equiliberte.org/wp-content/uploads/2024/05/2024-06-23-16-roullet.jpg
END:VEVENT
BEGIN:VEVENT
DTSTART;TZID=Europe/Paris:20240629T080000
DTEND;TZID=Europe/Paris:20240629T170000
DTSTAMP:20260420T153637
CREATED:20240317T050333Z
LAST-MODIFIED:20240318T191206Z
UID:8418-1719648000-1719680400@equiliberte.org
SUMMARY:Randonnée Equit'EnCCC (31)
DESCRIPTION:
URL:https://equiliberte.org/event/randonnee-equitenccc-31/
LOCATION:camping\, Aurignac\, 31420
CATEGORIES:Randonnée
END:VEVENT
BEGIN:VEVENT
DTSTART;TZID=Europe/Paris:20240630T080000
DTEND;TZID=Europe/Paris:20240630T170000
DTSTAMP:20260420T153637
CREATED:20240109T160134Z
LAST-MODIFIED:20240109T160134Z
UID:7681-1719734400-1719766800@equiliberte.org
SUMMARY:Rando à Buxières-les-Mines (03)
DESCRIPTION:
URL:https://equiliberte.org/event/rando-a-buxieres-les-mines-03/
LOCATION:le bourg\, Buxières-les-Mines\, 03440
CATEGORIES:Randonnée
ATTACH;FMTTYPE=image/jpeg:https://equiliberte.org/wp-content/uploads/2022/12/logo-03440-ACRMA.jpg
END:VEVENT
BEGIN:VEVENT
DTSTART;TZID=Europe/Paris:20240630T080000
DTEND;TZID=Europe/Paris:20240630T170000
DTSTAMP:20260420T153637
CREATED:20240206T180441Z
LAST-MODIFIED:20240528T163731Z
UID:8113-1719734400-1719766800@equiliberte.org
SUMMARY:Rando à Barbezieux (16)
DESCRIPTION:Pour information concernant la rando chez nos amis Lili et François à Barbezieux Saint Hilaire 16300 route de la Cigogne il y aura finalement deux parcours attelés et montés de 21 et 26 kms balisés. \n\n\n\nCasse-croûte à mi-parcours\, apéritif offert à l’issue de la randonnée. \n\n\n\nPique-nique tiré du sac\, apporter tables et chaises.
URL:https://equiliberte.org/event/rando-a-barbezieux-16/
LOCATION:route de la Cigogne\, Barbezieux St Hilaire\, 16300
CATEGORIES:Randonnée
ATTACH;FMTTYPE=image/jpeg:https://equiliberte.org/wp-content/uploads/2024/05/2024-06-30-16-barbezieux.jpg
END:VEVENT
END:VCALENDAR