BEGIN:VCALENDAR
VERSION:2.0
PRODID:-//ÉquiLiberté - ECPv6.15.13.1//NONSGML v1.0//EN
CALSCALE:GREGORIAN
METHOD:PUBLISH
X-WR-CALNAME:ÉquiLiberté
X-ORIGINAL-URL:https://equiliberte.org
X-WR-CALDESC:Évènements pour ÉquiLiberté
REFRESH-INTERVAL;VALUE=DURATION:PT1H
X-Robots-Tag:noindex
X-PUBLISHED-TTL:PT1H
BEGIN:VTIMEZONE
TZID:Europe/Paris
BEGIN:DAYLIGHT
TZOFFSETFROM:+0100
TZOFFSETTO:+0200
TZNAME:CEST
DTSTART:20230326T010000
END:DAYLIGHT
BEGIN:STANDARD
TZOFFSETFROM:+0200
TZOFFSETTO:+0100
TZNAME:CET
DTSTART:20231029T010000
END:STANDARD
BEGIN:DAYLIGHT
TZOFFSETFROM:+0100
TZOFFSETTO:+0200
TZNAME:CEST
DTSTART:20240331T010000
END:DAYLIGHT
BEGIN:STANDARD
TZOFFSETFROM:+0200
TZOFFSETTO:+0100
TZNAME:CET
DTSTART:20241027T010000
END:STANDARD
BEGIN:DAYLIGHT
TZOFFSETFROM:+0100
TZOFFSETTO:+0200
TZNAME:CEST
DTSTART:20250330T010000
END:DAYLIGHT
BEGIN:STANDARD
TZOFFSETFROM:+0200
TZOFFSETTO:+0100
TZNAME:CET
DTSTART:20251026T010000
END:STANDARD
END:VTIMEZONE
BEGIN:VEVENT
DTSTART;TZID=Europe/Paris:20240405T080000
DTEND;TZID=Europe/Paris:20240405T170000
DTSTAMP:20260424T121455
CREATED:20240310T200343Z
LAST-MODIFIED:20240310T200345Z
UID:8361-1712304000-1712336400@equiliberte.org
SUMMARY:Rando Montagne Noire (31)
DESCRIPTION:
URL:https://equiliberte.org/event/rando-montagne-noire-31/
CATEGORIES:Randonnée
END:VEVENT
BEGIN:VEVENT
DTSTART;TZID=Europe/Paris:20240407T080000
DTEND;TZID=Europe/Paris:20240407T170000
DTSTAMP:20260424T121455
CREATED:20230119T111312Z
LAST-MODIFIED:20240406T072242Z
UID:5684-1712476800-1712509200@equiliberte.org
SUMMARY:Bô Dimanche à Chouzy-sur-Cisse (41)
DESCRIPTION:Sortie ouverte au cavaliers et attelages. \n\n\n\nQu’est-ce qu’un Bô Dimanche ? :  \n\n\n\nUn cavalier ou un groupe de cavaliers propose une sortie avec un itinéraire d’environ 25 km qu’il a défini\, propose aussi une date que nous communiquons. \n\n\n\nLa participation est de 5€ par participant\, gratuite pour les adhérents EquiLiberté. Il n’y a pas d’itinéraire balisé ni de fourniture de carte. L’itinéraire est envoyé par mail ou sur facebook\, à chacun de le récupérer comme il souhaite (les personnes qui ne savent pas lire une carte peuvent s’associer avec des gens qui savent lire une carte). \n\n\n\nLe repas est tiré des sacoches et pris en commun \, cela privilégie les contacts\, sur un lieu de pause défini au départ par l’auteur de la journée.Tout le monde peut participer\, les seuls impératifs étant d’être assurés (adhésion EquiLiberté ou FFE ou autre assurance)\, d’avoir des équidés identifiés et à jour de leurs vaccins et en mesure de faire la sortie.
URL:https://equiliberte.org/event/bo-dimanche-a-yvoy-le-marron-41/
LOCATION:Yvoy-le-Marron\, Yvoy-le-Marron\, 41600\, France
CATEGORIES:Randonnée
ATTACH;FMTTYPE=image/jpeg:https://equiliberte.org/wp-content/uploads/2024/04/2024-04-07-41-EQL41.jpg
ORGANIZER;CN="EquiLibert%C3%A9 41":MAILTO:equiliberte41@gmail.com
END:VEVENT
BEGIN:VEVENT
DTSTART;TZID=Europe/Paris:20240407T080000
DTEND;TZID=Europe/Paris:20240407T170000
DTSTAMP:20260424T121455
CREATED:20230223T195744Z
LAST-MODIFIED:20240325T174811Z
UID:6069-1712476800-1712509200@equiliberte.org
SUMMARY:Rando à Mazeuil (86)
DESCRIPTION:organisé par EquiLiberté86
URL:https://equiliberte.org/event/rando-a-fleure-86/
LOCATION:centre équestre de Mornay\, Mazeuil\, 86110
CATEGORIES:Randonnée
ATTACH;FMTTYPE=image/jpeg:https://equiliberte.org/wp-content/uploads/2024/03/2024-04-07-86-mornay.jpg
END:VEVENT
BEGIN:VEVENT
DTSTART;TZID=Europe/Paris:20240407T080000
DTEND;TZID=Europe/Paris:20240407T170000
DTSTAMP:20260424T121455
CREATED:20240310T203459Z
LAST-MODIFIED:20240310T204430Z
UID:8373-1712476800-1712509200@equiliberte.org
SUMMARY:Sortie adhérents à Barbazan-Debat (31)
DESCRIPTION:Sortie réservé aux adhérents de l’association ARCS
URL:https://equiliberte.org/event/sortie-adherents-a-barbazan-debat-31/
LOCATION:le Lac\, Barbazan-Debat\, 31510
CATEGORIES:Randonnée
END:VEVENT
BEGIN:VEVENT
DTSTART;TZID=Europe/Paris:20240414T000000
DTEND;TZID=Europe/Paris:20240414T235959
DTSTAMP:20260424T121455
CREATED:20220428T100937Z
LAST-MODIFIED:20240325T164056Z
UID:3979-1713052800-1713139199@equiliberte.org
SUMMARY:Randonnée de Laleuf (36)
DESCRIPTION:
URL:https://equiliberte.org/event/randonnee-du-pechereau-dans-lindre-36/
LOCATION:Ecuries de Laleuf\, St Maur\, 36250
CATEGORIES:Randonnée
ATTACH;FMTTYPE=image/jpeg:https://equiliberte.org/wp-content/uploads/2024/03/2024-04-14-36-laleuf.jpg
END:VEVENT
BEGIN:VEVENT
DTSTART;TZID=Europe/Paris:20240414T080000
DTEND;TZID=Europe/Paris:20240414T170000
DTSTAMP:20260424T121455
CREATED:20230125T073629Z
LAST-MODIFIED:20240325T170519Z
UID:5762-1713081600-1713114000@equiliberte.org
SUMMARY:Bô Dimanche à Savigny-en-Véron (37)
DESCRIPTION:organisé par EquiLiberté 37
URL:https://equiliberte.org/event/bo-dimanche-a-savigny-en-veron/
LOCATION:Le Moulin des Sablons\, Savigny en Véron\, 37420
CATEGORIES:Randonnée
ATTACH;FMTTYPE=image/jpeg:https://equiliberte.org/wp-content/uploads/2024/03/2024-04-14-37-EQL37.jpg
END:VEVENT
BEGIN:VEVENT
DTSTART;TZID=Europe/Paris:20240421T080000
DTEND;TZID=Europe/Paris:20240421T170000
DTSTAMP:20260424T121455
CREATED:20230208T202919Z
LAST-MODIFIED:20240325T163233Z
UID:5877-1713686400-1713718800@equiliberte.org
SUMMARY:Rando de Printemps (36)
DESCRIPTION:
URL:https://equiliberte.org/event/rando-de-printemps-36/
LOCATION:le Cluzeau\, Le Cluzeau\, 36310
CATEGORIES:Randonnée
ATTACH;FMTTYPE=image/jpeg:https://equiliberte.org/wp-content/uploads/2024/03/2024-04-21-36-EQL36.jpg
END:VEVENT
BEGIN:VEVENT
DTSTART;TZID=Europe/Paris:20240421T080000
DTEND;TZID=Europe/Paris:20240421T170000
DTSTAMP:20260424T121455
CREATED:20230311T174327Z
LAST-MODIFIED:20240402T113304Z
UID:6211-1713686400-1713718800@equiliberte.org
SUMMARY:Rando à Bresnay (03)
DESCRIPTION:
URL:https://equiliberte.org/event/rando-a-bresnay-03/
LOCATION:Centre socio-culturel\, Bresnay\, 03210
CATEGORIES:Randonnée
ATTACH;FMTTYPE=image/jpeg:https://equiliberte.org/wp-content/uploads/2024/04/2024-04-21-03-trasse.jpg
END:VEVENT
BEGIN:VEVENT
DTSTART;TZID=Europe/Paris:20240428T000000
DTEND;TZID=Europe/Paris:20240428T235959
DTSTAMP:20260424T121455
CREATED:20220323T102949Z
LAST-MODIFIED:20240330T123629Z
UID:3814-1714262400-1714348799@equiliberte.org
SUMMARY:Randonnée à Céré la Ronde (37)
DESCRIPTION:Organisé par l’Etrier des Sans Soucis
URL:https://equiliberte.org/event/randonnee-a-cere-la-ronde-37/
LOCATION:stade\, Céré la Ronde\, 37460
CATEGORIES:Randonnée
ATTACH;FMTTYPE=image/jpeg:https://equiliberte.org/wp-content/uploads/2024/03/2024-04-28-37-sans-souci.jpg
END:VEVENT
BEGIN:VEVENT
DTSTART;TZID=Europe/Paris:20240428T080000
DTEND;TZID=Europe/Paris:20240428T170000
DTSTAMP:20260424T121455
CREATED:20230325T062623Z
LAST-MODIFIED:20240325T163606Z
UID:6287-1714291200-1714323600@equiliberte.org
SUMMARY:Fête de la St Georges (87)
DESCRIPTION:
URL:https://equiliberte.org/event/fete-de-la-st-georges-87/
LOCATION:le Bourg\, Arnac la Poste\, 87160
CATEGORIES:Randonnée
END:VEVENT
END:VCALENDAR