BEGIN:VCALENDAR
VERSION:2.0
PRODID:-//ÉquiLiberté - ECPv6.15.13.1//NONSGML v1.0//EN
CALSCALE:GREGORIAN
METHOD:PUBLISH
X-ORIGINAL-URL:https://equiliberte.org
X-WR-CALDESC:Évènements pour ÉquiLiberté
REFRESH-INTERVAL;VALUE=DURATION:PT1H
X-Robots-Tag:noindex
X-PUBLISHED-TTL:PT1H
BEGIN:VTIMEZONE
TZID:Europe/Paris
BEGIN:DAYLIGHT
TZOFFSETFROM:+0100
TZOFFSETTO:+0200
TZNAME:CEST
DTSTART:20220327T010000
END:DAYLIGHT
BEGIN:STANDARD
TZOFFSETFROM:+0200
TZOFFSETTO:+0100
TZNAME:CET
DTSTART:20221030T010000
END:STANDARD
BEGIN:DAYLIGHT
TZOFFSETFROM:+0100
TZOFFSETTO:+0200
TZNAME:CEST
DTSTART:20230326T010000
END:DAYLIGHT
BEGIN:STANDARD
TZOFFSETFROM:+0200
TZOFFSETTO:+0100
TZNAME:CET
DTSTART:20231029T010000
END:STANDARD
BEGIN:DAYLIGHT
TZOFFSETFROM:+0100
TZOFFSETTO:+0200
TZNAME:CEST
DTSTART:20240331T010000
END:DAYLIGHT
BEGIN:STANDARD
TZOFFSETFROM:+0200
TZOFFSETTO:+0100
TZNAME:CET
DTSTART:20241027T010000
END:STANDARD
END:VTIMEZONE
BEGIN:VEVENT
DTSTART;TZID=Europe/Paris:20231001T080000
DTEND;TZID=Europe/Paris:20231001T170000
DTSTAMP:20260424T224226
CREATED:20230123T055925Z
LAST-MODIFIED:20230906T043502Z
UID:5780-1696147200-1696179600@equiliberte.org
SUMMARY:Randonnée sud Touraine (37)
DESCRIPTION:organisé par l’association « Cheval Evasion » à Cursay et alentours
URL:https://equiliberte.org/event/randonnee-sud-touraine-37/
LOCATION:Stade\, Cussay\, 37240
CATEGORIES:Randonnée
END:VEVENT
BEGIN:VEVENT
DTSTART;TZID=Europe/Paris:20231001T080000
DTEND;TZID=Europe/Paris:20231001T170000
DTSTAMP:20260424T224226
CREATED:20230914T100634Z
LAST-MODIFIED:20250707T044350Z
UID:6996-1696147200-1696179600@equiliberte.org
SUMMARY:Randonnée Galops de Sillon (44)
DESCRIPTION:
URL:https://equiliberte.org/event/randonnee-a-cordemais-44/
LOCATION:Collège Paul Gauguin\, Cordemais\, 44360
CATEGORIES:Randonnée
END:VEVENT
BEGIN:VEVENT
DTSTART;TZID=Europe/Paris:20231015T080000
DTEND;TZID=Europe/Paris:20231015T170000
DTSTAMP:20260424T224226
CREATED:20230429T052533Z
LAST-MODIFIED:20231011T053558Z
UID:6515-1697356800-1697389200@equiliberte.org
SUMMARY:Bô Dimanche à Bessé-sur-Braye (72)
DESCRIPTION:
URL:https://equiliberte.org/event/bo-dimanche-a-le-liege-37/
LOCATION:Bessé-sur-Braye\, Bessé-sur-Braye\, 72310
CATEGORIES:Randonnée
END:VEVENT
BEGIN:VEVENT
DTSTART;TZID=Europe/Paris:20231015T080000
DTEND;TZID=Europe/Paris:20231015T170000
DTSTAMP:20260424T224226
CREATED:20230914T170831Z
LAST-MODIFIED:20231009T084834Z
UID:7001-1697356800-1697389200@equiliberte.org
SUMMARY:Randos d'automne (12)
DESCRIPTION:organisé par l’association Cavalières et Cavaliers du Rougier et des Avant-Causses\, inscription https://www.helloasso.com/associations/cavalieres-et-cavaliers-du-rougier-et-des-avants-causses-ccrac/evenements/randos-d-automne-st-affricaine-2023 \n\n\n\nDimanche 15 octobre\, RDV à Tiergues (12400 St-Affrique) pour les Randos d’Automne St-Affricaine 2023\, deuxième édition. \n\n\n\nA vous de choisir: \n\n\n\n– 4 pratiques possibles\, en marchant\, en courant\, en VTT ou à cheval. \n\n\n\n– 4 distances au choix 10\, 20\, 30 ou 40 km (30 et 40 km trop long pour être fait en marchant dans la matinée) \n\n\n\nCette année les inscriptions se font aussi en ligne: billetterie \n\n\n\nLes inscriptions aux randonnées peuvent se faire jusqu’au dernier moment\, et même sur place le matin. Pour le repas réservation obligatoire d’ici le 9 octobre.
URL:https://equiliberte.org/event/randos-dautomne-12/
LOCATION:Saint Affrique\, Saint Affrique\, 12400
CATEGORIES:Randonnée
END:VEVENT
BEGIN:VEVENT
DTSTART;TZID=Europe/Paris:20231015T080000
DTEND;TZID=Europe/Paris:20231015T170000
DTSTAMP:20260424T224226
CREATED:20231011T191101Z
LAST-MODIFIED:20231011T191102Z
UID:7172-1697356800-1697389200@equiliberte.org
SUMMARY:Rando pour tous (03)
DESCRIPTION:
URL:https://equiliberte.org/event/rando-pour-tous-03/
LOCATION:Centre Socio-Culturel\, Besson\, 03210
CATEGORIES:Randonnée
END:VEVENT
BEGIN:VEVENT
DTSTART;TZID=Europe/Paris:20231022T080000
DTEND;TZID=Europe/Paris:20231022T170000
DTSTAMP:20260424T224226
CREATED:20230929T063036Z
LAST-MODIFIED:20230929T063502Z
UID:7136-1697961600-1697994000@equiliberte.org
SUMMARY:Randonnée Octobre Rose
DESCRIPTION:
URL:https://equiliberte.org/event/randonnee-octobre-rose/
LOCATION:Stade de Foot\, St Sérotin\, 89140
CATEGORIES:Randonnée
ATTACH;FMTTYPE=image/jpeg:https://equiliberte.org/wp-content/uploads/classified-listing/2022/12/logo-89140-au-coeur-de-lhistoire.jpg
END:VEVENT
BEGIN:VEVENT
DTSTART;TZID=Europe/Paris:20231028T080000
DTEND;TZID=Europe/Paris:20231028T170000
DTSTAMP:20260424T224226
CREATED:20221215T080136Z
LAST-MODIFIED:20221225T160506Z
UID:5134-1698480000-1698512400@equiliberte.org
SUMMARY:Rando Halloween (78)
DESCRIPTION:
URL:https://equiliberte.org/event/rando-halloween/
CATEGORIES:Randonnée
ATTACH;FMTTYPE=image/jpeg:https://equiliberte.org/wp-content/uploads/2022/12/logo-78630-equitey.jpg
END:VEVENT
END:VCALENDAR