BEGIN:VCALENDAR
VERSION:2.0
PRODID:-//ÉquiLiberté - ECPv6.15.13.1//NONSGML v1.0//EN
CALSCALE:GREGORIAN
METHOD:PUBLISH
X-ORIGINAL-URL:https://equiliberte.org
X-WR-CALDESC:Évènements pour ÉquiLiberté
REFRESH-INTERVAL;VALUE=DURATION:PT1H
X-Robots-Tag:noindex
X-PUBLISHED-TTL:PT1H
BEGIN:VTIMEZONE
TZID:Europe/Paris
BEGIN:DAYLIGHT
TZOFFSETFROM:+0100
TZOFFSETTO:+0200
TZNAME:CEST
DTSTART:20220327T010000
END:DAYLIGHT
BEGIN:STANDARD
TZOFFSETFROM:+0200
TZOFFSETTO:+0100
TZNAME:CET
DTSTART:20221030T010000
END:STANDARD
BEGIN:DAYLIGHT
TZOFFSETFROM:+0100
TZOFFSETTO:+0200
TZNAME:CEST
DTSTART:20230326T010000
END:DAYLIGHT
BEGIN:STANDARD
TZOFFSETFROM:+0200
TZOFFSETTO:+0100
TZNAME:CET
DTSTART:20231029T010000
END:STANDARD
BEGIN:DAYLIGHT
TZOFFSETFROM:+0100
TZOFFSETTO:+0200
TZNAME:CEST
DTSTART:20240331T010000
END:DAYLIGHT
BEGIN:STANDARD
TZOFFSETFROM:+0200
TZOFFSETTO:+0100
TZNAME:CET
DTSTART:20241027T010000
END:STANDARD
END:VTIMEZONE
BEGIN:VEVENT
DTSTART;TZID=Europe/Paris:20230910T000000
DTEND;TZID=Europe/Paris:20230910T235959
DTSTAMP:20260425T002821
CREATED:20230804T112414Z
LAST-MODIFIED:20230804T170811Z
UID:6875-1694304000-1694390399@equiliberte.org
SUMMARY:Rallye de Salviac dans le Lot (46)
DESCRIPTION:C’est le rallye annuel de l’Association le cheval en Pays de Salviac (ACPS) \n\n\n\nInscriptions : \n\n\n\nTéléphone : Laetitia 06.83.10.27.69 \n\n\n\nMail : chevalenpaysdesalviac@gmail.com \n\n\n\nHello Asso : https://www.helloasso.com/…/evenements/rallye-salviac Paiement en ligne… \n\n\n\nInscriptions avant le 08/09/23 dernier délai pour les repas svp \n\n\n\nHâte de vous voir ! \n\n\n\nPour faciliter l’organisation pensez à préparer votre fiche d’inscription\, de présenter le carnet du cheval et votre licence ou rc pratiquant.    \n\n\n\nPour télécharger la fiche d’inscription : https://equiliberte.org/wp-content/uploads/2023/08/fiche-inscription-salviac.pdf
URL:https://equiliberte.org/event/rallye-de-salviac-lot/
LOCATION:Parc des Contamines\, Salviac\, 46340
CATEGORIES:Randonnée
END:VEVENT
BEGIN:VEVENT
DTSTART;TZID=Europe/Paris:20230910T080000
DTEND;TZID=Europe/Paris:20230910T170000
DTSTAMP:20260425T002821
CREATED:20230429T044751Z
LAST-MODIFIED:20230429T044753Z
UID:6511-1694332800-1694365200@equiliberte.org
SUMMARY:Bô Dimanche à Bessé (72)
DESCRIPTION:
URL:https://equiliberte.org/event/bo-dimanche-a-besse-72/
LOCATION:Bessé\, Bessé sur Braye\, 72310
CATEGORIES:Randonnée
ATTACH;FMTTYPE=image/jpeg:https://equiliberte.org/wp-content/uploads/2023/01/logo-bo-dimanche2.jpeg
END:VEVENT
BEGIN:VEVENT
DTSTART;TZID=Europe/Paris:20230917T080000
DTEND;TZID=Europe/Paris:20230917T170000
DTSTAMP:20260425T002821
CREATED:20230701T123145Z
LAST-MODIFIED:20230718T142402Z
UID:6777-1694937600-1694970000@equiliberte.org
SUMMARY:Randonnée des Châteaux Richelieu(37)
DESCRIPTION:Dans le cadre de la journée du patrimoine\, EquiLiberté vous fera découvrir le château de Milly\, avec dégustation des produits locaux. Les détails seront communiqués plus tard.
URL:https://equiliberte.org/event/randonnee-des-chateaux-richelieu37/
LOCATION:l’ancienne gare\, Richelieu\, 37120
CATEGORIES:Randonnée
END:VEVENT
BEGIN:VEVENT
DTSTART;TZID=Europe/Paris:20230917T080000
DTEND;TZID=Europe/Paris:20230917T170000
DTSTAMP:20260425T002821
CREATED:20230908T165905Z
LAST-MODIFIED:20230908T165947Z
UID:6968-1694937600-1694970000@equiliberte.org
SUMMARY:Rando à Champnetery (87)
DESCRIPTION:
URL:https://equiliberte.org/event/rando-a-champnetery-87/
LOCATION:la Roche\, Champnetery\, 87400
CATEGORIES:Randonnée
END:VEVENT
BEGIN:VEVENT
DTSTART;TZID=Europe/Paris:20230917T080000
DTEND;TZID=Europe/Paris:20230917T170000
DTSTAMP:20260425T002821
CREATED:20230911T045141Z
LAST-MODIFIED:20230914T171628Z
UID:6979-1694937600-1694970000@equiliberte.org
SUMMARY:Rallye de Lherm (46)
DESCRIPTION:
URL:https://equiliberte.org/event/rallye-de-lherm-46/
LOCATION:Bar à Trucs\, Lherm\, 46150
CATEGORIES:Randonnée
END:VEVENT
BEGIN:VEVENT
DTSTART;TZID=Europe/Paris:20230924T080000
DTEND;TZID=Europe/Paris:20230924T170000
DTSTAMP:20260425T002821
CREATED:20221215T080055Z
LAST-MODIFIED:20221225T160537Z
UID:5132-1695542400-1695574800@equiliberte.org
SUMMARY:Rando Souvenir (78)
DESCRIPTION:secteur Rosny-sur-Seine
URL:https://equiliberte.org/event/rando-souvenir/
CATEGORIES:Randonnée
ATTACH;FMTTYPE=image/jpeg:https://equiliberte.org/wp-content/uploads/2022/12/logo-78630-equitey.jpg
END:VEVENT
BEGIN:VEVENT
DTSTART;TZID=Europe/Paris:20230924T080000
DTEND;TZID=Europe/Paris:20230924T170000
DTSTAMP:20260425T002821
CREATED:20230911T101939Z
LAST-MODIFIED:20230911T101940Z
UID:6982-1695542400-1695574800@equiliberte.org
SUMMARY:Randonnée du Vignoble (44)
DESCRIPTION:
URL:https://equiliberte.org/event/randonnee-du-vignoble-44/
LOCATION:terrain de AAC\, 1210 rue de l'Arche\, Basse Goulaine\, 44115
CATEGORIES:Randonnée
END:VEVENT
END:VCALENDAR