BEGIN:VCALENDAR
VERSION:2.0
PRODID:-//ÉquiLiberté - ECPv6.15.13.1//NONSGML v1.0//EN
CALSCALE:GREGORIAN
METHOD:PUBLISH
X-WR-CALNAME:ÉquiLiberté
X-ORIGINAL-URL:https://equiliberte.org
X-WR-CALDESC:Évènements pour ÉquiLiberté
REFRESH-INTERVAL;VALUE=DURATION:PT1H
X-Robots-Tag:noindex
X-PUBLISHED-TTL:PT1H
BEGIN:VTIMEZONE
TZID:Europe/Paris
BEGIN:DAYLIGHT
TZOFFSETFROM:+0100
TZOFFSETTO:+0200
TZNAME:CEST
DTSTART:20220327T010000
END:DAYLIGHT
BEGIN:STANDARD
TZOFFSETFROM:+0200
TZOFFSETTO:+0100
TZNAME:CET
DTSTART:20221030T010000
END:STANDARD
BEGIN:DAYLIGHT
TZOFFSETFROM:+0100
TZOFFSETTO:+0200
TZNAME:CEST
DTSTART:20230326T010000
END:DAYLIGHT
BEGIN:STANDARD
TZOFFSETFROM:+0200
TZOFFSETTO:+0100
TZNAME:CET
DTSTART:20231029T010000
END:STANDARD
BEGIN:DAYLIGHT
TZOFFSETFROM:+0100
TZOFFSETTO:+0200
TZNAME:CEST
DTSTART:20240331T010000
END:DAYLIGHT
BEGIN:STANDARD
TZOFFSETFROM:+0200
TZOFFSETTO:+0100
TZNAME:CET
DTSTART:20241027T010000
END:STANDARD
END:VTIMEZONE
BEGIN:VEVENT
DTSTART;TZID=Europe/Paris:20230820T080000
DTEND;TZID=Europe/Paris:20230820T170000
DTSTAMP:20260425T020553
CREATED:20230119T202438Z
LAST-MODIFIED:20230803T100025Z
UID:5729-1692518400-1692550800@equiliberte.org
SUMMARY:Randonnée les Racauds (17800)
DESCRIPTION:Organisée par l’association les Amis des Chevaux de St Léger.    renseignements 06 66 40 38 95
URL:https://equiliberte.org/event/randonnee-les-racauds-17800/
LOCATION:les Racauds\, Pons\, 17800
CATEGORIES:Randonnée
END:VEVENT
BEGIN:VEVENT
DTSTART;TZID=Europe/Paris:20230820T080000
DTEND;TZID=Europe/Paris:20230820T170000
DTSTAMP:20260425T020553
CREATED:20230125T073307Z
LAST-MODIFIED:20230723T051930Z
UID:5776-1692518400-1692550800@equiliberte.org
SUMMARY:Bô Dimanche à Château-la-Vallière (37)
DESCRIPTION:organisé par EquiLiberté 37
URL:https://equiliberte.org/event/bo-dimanche-a-savigny-sur-lathan-37/
LOCATION:l’Hommelais\, Château-la-Vallière\, 37330
CATEGORIES:Randonnée
END:VEVENT
BEGIN:VEVENT
DTSTART;TZID=Europe/Paris:20230827T080000
DTEND;TZID=Europe/Paris:20230827T170000
DTSTAMP:20260425T020553
CREATED:20221215T080014Z
LAST-MODIFIED:20221225T160550Z
UID:5130-1693123200-1693155600@equiliberte.org
SUMMARY:Rando Boucle de Seine (78)
DESCRIPTION:secteur Guernes
URL:https://equiliberte.org/event/rando-boucle-de-seine/
CATEGORIES:Randonnée
ATTACH;FMTTYPE=image/jpeg:https://equiliberte.org/wp-content/uploads/2022/12/logo-78630-equitey.jpg
END:VEVENT
END:VCALENDAR