BEGIN:VCALENDAR
VERSION:2.0
PRODID:-//ÉquiLiberté - ECPv6.15.13.1//NONSGML v1.0//EN
CALSCALE:GREGORIAN
METHOD:PUBLISH
X-ORIGINAL-URL:https://equiliberte.org
X-WR-CALDESC:Évènements pour ÉquiLiberté
REFRESH-INTERVAL;VALUE=DURATION:PT1H
X-Robots-Tag:noindex
X-PUBLISHED-TTL:PT1H
BEGIN:VTIMEZONE
TZID:Europe/Paris
BEGIN:DAYLIGHT
TZOFFSETFROM:+0100
TZOFFSETTO:+0200
TZNAME:CEST
DTSTART:20220327T010000
END:DAYLIGHT
BEGIN:STANDARD
TZOFFSETFROM:+0200
TZOFFSETTO:+0100
TZNAME:CET
DTSTART:20221030T010000
END:STANDARD
BEGIN:DAYLIGHT
TZOFFSETFROM:+0100
TZOFFSETTO:+0200
TZNAME:CEST
DTSTART:20230326T010000
END:DAYLIGHT
BEGIN:STANDARD
TZOFFSETFROM:+0200
TZOFFSETTO:+0100
TZNAME:CET
DTSTART:20231029T010000
END:STANDARD
BEGIN:DAYLIGHT
TZOFFSETFROM:+0100
TZOFFSETTO:+0200
TZNAME:CEST
DTSTART:20240331T010000
END:DAYLIGHT
BEGIN:STANDARD
TZOFFSETFROM:+0200
TZOFFSETTO:+0100
TZNAME:CET
DTSTART:20241027T010000
END:STANDARD
END:VTIMEZONE
BEGIN:VEVENT
DTSTART;TZID=Europe/Paris:20230108T080000
DTEND;TZID=Europe/Paris:20230108T170000
DTSTAMP:20260425T132912
CREATED:20221215T075445Z
LAST-MODIFIED:20221225T160025Z
UID:5119-1673164800-1673197200@equiliberte.org
SUMMARY:Rando Lendemain de Fêtes (78)
DESCRIPTION:secteur les Bréviaires
URL:https://equiliberte.org/event/rando-lendemain-de-fetes/
CATEGORIES:Randonnée
ATTACH;FMTTYPE=image/jpeg:https://equiliberte.org/wp-content/uploads/2022/12/logo-78630-equitey.jpg
END:VEVENT
BEGIN:VEVENT
DTSTART;TZID=Europe/Paris:20230108T080000
DTEND;TZID=Europe/Paris:20230108T170000
DTSTAMP:20260425T132912
CREATED:20221216T063349Z
LAST-MODIFIED:20221225T160006Z
UID:5172-1673164800-1673197200@equiliberte.org
SUMMARY:Rando les Galettes des Rois (31)
DESCRIPTION:
URL:https://equiliberte.org/event/rando-les-galettes-des-rois/
CATEGORIES:Randonnée
END:VEVENT
END:VCALENDAR