BEGIN:VCALENDAR
VERSION:2.0
PRODID:-//ÉquiLiberté - ECPv6.15.13.1//NONSGML v1.0//EN
CALSCALE:GREGORIAN
METHOD:PUBLISH
X-ORIGINAL-URL:https://equiliberte.org
X-WR-CALDESC:Évènements pour ÉquiLiberté
REFRESH-INTERVAL;VALUE=DURATION:PT1H
X-Robots-Tag:noindex
X-PUBLISHED-TTL:PT1H
BEGIN:VTIMEZONE
TZID:Europe/Paris
BEGIN:DAYLIGHT
TZOFFSETFROM:+0100
TZOFFSETTO:+0200
TZNAME:CEST
DTSTART:20210328T010000
END:DAYLIGHT
BEGIN:STANDARD
TZOFFSETFROM:+0200
TZOFFSETTO:+0100
TZNAME:CET
DTSTART:20211031T010000
END:STANDARD
BEGIN:DAYLIGHT
TZOFFSETFROM:+0100
TZOFFSETTO:+0200
TZNAME:CEST
DTSTART:20220327T010000
END:DAYLIGHT
BEGIN:STANDARD
TZOFFSETFROM:+0200
TZOFFSETTO:+0100
TZNAME:CET
DTSTART:20221030T010000
END:STANDARD
BEGIN:DAYLIGHT
TZOFFSETFROM:+0100
TZOFFSETTO:+0200
TZNAME:CEST
DTSTART:20230326T010000
END:DAYLIGHT
BEGIN:STANDARD
TZOFFSETFROM:+0200
TZOFFSETTO:+0100
TZNAME:CET
DTSTART:20231029T010000
END:STANDARD
END:VTIMEZONE
BEGIN:VEVENT
DTSTART;TZID=Europe/Paris:20221002T000000
DTEND;TZID=Europe/Paris:20221002T235959
DTSTAMP:20260425T181646
CREATED:20220924T100626Z
LAST-MODIFIED:20221201T191826Z
UID:4444-1664668800-1664755199@equiliberte.org
SUMMARY:Randonnée équestre à Cussay 37240
DESCRIPTION:Accessible aux attelages . RV rue des prés carrés au stade \n\n\n\nAccueil dès 8h \n\n\n\nItinéraire de 25 kms avec possibilité de raccourcis Carte et fichier GPS fournis \n\n\n\nEngagement : 10€ Adhérents Cheval Evasion : 7€ \n\n\n\nRenseignements Inscriptions : Jean-Marie et Élisabeth : 06 88 37 09 30 \n\n\n\nhttps://equiliberte.org/wp-content/uploads/2022/09/2022-10-02-37-cussay.jpg
URL:https://equiliberte.org/event/randonnee-equestre-a-cussay-37240/
CATEGORIES:Randonnée
END:VEVENT
BEGIN:VEVENT
DTSTART;TZID=Europe/Paris:20221002T000000
DTEND;TZID=Europe/Paris:20221002T235959
DTSTAMP:20260425T181646
CREATED:20220924T101308Z
LAST-MODIFIED:20221201T191819Z
UID:4448-1664668800-1664755199@equiliberte.org
SUMMARY:La randonnée du vignoble Nantais 44330 Le Pallet
DESCRIPTION:Départ du musée du vignoble entre 8h30 et 9h30 \n\n\n\nCircuit de 22 kms ouvert aux cavaliers et aux meneurs \n\n\n\nPlaces limitées (100) \n\n\n\nTarif : 8€ \n\n\n\nInscription via le lien suivant : \n\n\n\n www.payasso.fr/equimuscadine/inscription
URL:https://equiliberte.org/event/la-randonnee-du-vignoble-nantais-44330-le-pallet/
CATEGORIES:Randonnée
END:VEVENT
BEGIN:VEVENT
DTSTART;TZID=Europe/Paris:20221009T000000
DTEND;TZID=Europe/Paris:20221009T235959
DTSTAMP:20260425T181646
CREATED:20220915T091021Z
LAST-MODIFIED:20221201T191732Z
UID:4366-1665273600-1665359999@equiliberte.org
SUMMARY:Rallye de Joncassou 46150 Lherm
DESCRIPTION:Accueil café . départ à 8h30 sur parcours balisé 20 kms . \n\n\n\nRepas à partir de 13h sur réservation \n\n\n\nRallye seul (café\, casse-croûte) 10€ \n\n\n\nRallye café\, casse-croûte et repas 20€ \n\n\n\nRepas seul 15€ \n\n\n\nInscriptions renseignements : Raymond 05 65 36 23 08 \n\n\n\nAdresse lieu dit Joncassou . 46150 Lherm
URL:https://equiliberte.org/event/rallye-de-joncassou-46150-lherm/
CATEGORIES:Randonnée
END:VEVENT
BEGIN:VEVENT
DTSTART;TZID=Europe/Paris:20221009T000000
DTEND;TZID=Europe/Paris:20221009T235959
DTSTAMP:20260425T181646
CREATED:20220919T201941Z
LAST-MODIFIED:20221201T191725Z
UID:4377-1665273600-1665359999@equiliberte.org
SUMMARY:Randonnée d'Automne à St Père en Retz (44)
DESCRIPTION:Organisée par les Sabots de Retz
URL:https://equiliberte.org/event/randonnee-dautomne-a-st-pere-en-retz-44/
CATEGORIES:Randonnée
END:VEVENT
BEGIN:VEVENT
DTSTART;TZID=Europe/Paris:20221015T000000
DTEND;TZID=Europe/Paris:20221016T235959
DTSTAMP:20260425T181646
CREATED:20220919T195839Z
LAST-MODIFIED:20221201T191711Z
UID:4372-1665792000-1665964799@equiliberte.org
SUMMARY:Rallye de Saint Léon sur Vézère (24290)
DESCRIPTION:La dixième édition du rallye de Saint Léon sur Vézère\, organisée par l’association du Cheval en Pays de Salviac\, aura lieu le dimanche 16 octobre prochain \n\n\n\nAprès l’inscription et le petit déjeuner\, vous installerez vos paddocks comme d’habitude pour partir par petit groupes sur deux boucles balisées au choix de 16 ou 26 kmCette année\, le casse-croûte se fera dans le centre du bourg de St Léon.Repas pour ceux qui le souhaitent le dimanche midi / A réserver au plus tard le jeudi 13 octobreTarifs\, et autres informations : voir flyer ci-joint.Pour faciliter l’organisation du rallye\, merci de vous pré inscrire\, de préférence par mail\, à défaut par téléphone\, avent le vendredi 14 octobre. Règlement sur place le dimanche matin. N’oubliez pas de pré remplir vos fiches d’inscriptions  (modèle ci-joint) à remettre à l’inscription\, le matin même.Rallye ouvert aux marcheurs et VTT\n\n\n\nPour ceux qui souhaitent arriver le samedi : \n\n\n\nParcours cavaliers de 16 km non balisés (voir .GPX ci-joints et cartes sur demande par mail)Possibilité d’hébergement et de restauration le samedi soir sur place (réservation et règlement directement au camping « Le Paradis » – 05 53 50 72 64  https://le-paradis.fr/)A noter que les chevaux au paddock restent sous la responsabilité de leurs cavaliers\n\n\n\nPoints d’attention : \n\n\n\nAttention à la circulation à traversée des deux ponts sur la Vézère\, notamment celui du Moustier\, en face de la Roque St Christophe / pour les chevaux « sur l’œil »\, n’hésitez pas à mettre pied à terreAttention à ne pas arriver trop tard pour le repas de midi au Paradis pour ceux qui auront choisi cette option.Merci de passer au pas sur les berges à ST Léon et de laisser la traversée du bourg et le site du casse-croûte aussi propres que possible\, si vous voulez que cette manifestation puisse continuer les années suivantes !Parcours moyennement difficile avec quelques dénivelés\, sol plutôt caillouteux\, il faut donc des chevaux en forme.Assurance RC pratique de l’équitation obligatoire (licence FFE\, EquiLiberté ou équivalent). Possibilité d’assurance à la journée 3€ à l’inscriptionLes circuits cavaliers ne sont pas praticables par les attelages. Possibilité de circuits spécifiques à la demande pour les attelages sur carte avec .gpx fournis/ Me contacter
URL:https://equiliberte.org/event/rallye-de-saint-leon-sur-vezere-24290/
CATEGORIES:Randonnée
END:VEVENT
BEGIN:VEVENT
DTSTART;TZID=Europe/Paris:20221016T000000
DTEND;TZID=Europe/Paris:20221016T235959
DTSTAMP:20260425T181646
CREATED:20220920T160655Z
LAST-MODIFIED:20221201T191705Z
UID:4381-1665878400-1665964799@equiliberte.org
SUMMARY:La Randonnée d'Automne à Bellebouche (36)
DESCRIPTION:A pied\, à cheval\, en VTT ou en attelage\, une journée pleine Brenne!!!!Organisée par la municipalité de Mézières en Brenne et l’association « La Randonnée de la Brenne »
URL:https://equiliberte.org/event/la-randonnee-dautomne-a-bellbouche-36/
CATEGORIES:Randonnée
END:VEVENT
BEGIN:VEVENT
DTSTART;TZID=Europe/Paris:20221016T000000
DTEND;TZID=Europe/Paris:20221016T235959
DTSTAMP:20260425T181646
CREATED:20220922T095949Z
LAST-MODIFIED:20221201T191741Z
UID:4414-1665878400-1665964799@equiliberte.org
SUMMARY:Randonnée d'Automne à Besson (03)
DESCRIPTION:Organisée par la Trasse Bourbonnaise  \n\n\n\n Départ du centre socio-culturel avec différentes formules.  \n\n\n\nRavitaillement sur le parcours \n\n\n\n️️ N’oubliez pas votre gobelet !!!  ️️ \n\n\n\nLa trasse bourbonnaise vous dit à bientôt !!!
URL:https://equiliberte.org/event/randonnee-dautomne-a-besson-03/
CATEGORIES:Randonnée
END:VEVENT
BEGIN:VEVENT
DTSTART;TZID=Europe/Paris:20221016T000000
DTEND;TZID=Europe/Paris:20221016T235959
DTSTAMP:20260425T181646
CREATED:20220926T065657Z
LAST-MODIFIED:20221201T191658Z
UID:4453-1665878400-1665964799@equiliberte.org
SUMMARY:Rando à Moncontour 86330
DESCRIPTION:https://www.facebook.com/Les-amis-du-cheval-du-loudunais-558168620864024/?cft[0]=AZWMpsaeZgHscV4HfWKOYxW3z5Catec1InG6kv6XOPAxZ4xVAbcv3LURtD34xYcFbCMxmaG79utFTAvxtqO_Is7TjTv5CiFQjFDTQv6igNIMSaydPIqNtlaIQ5eIyOTYy3IZhNM39nzbOPY4yjcDTIYVmmWbCrtS-9zouSA3jEtVE4PCUd71aeG1eLlO8712xVJ4yx5h5LTHyRbAoCcAxvYe&tn=-UK-R \n\n\n\nhttps://equiliberte.org/wp-content/uploads/2022/09/2022-10-16-86-loudun.jpg \n\n\n\nLes Amis du Cheval du Loudounais vous invitent à leur rando annuelle ; Environ 25 kms \n\n\n\nChez Christian et Paulette Rambeau 14 rue du Rousseleau . Moncontour \n\n\n\nAccueil à partir de 9h \n\n\n\nInscription rando 8€ \n\n\n\nRepas possible à l’arrivée 12€ (inscription avant le 12/10) \n\n\n\nInscriptions 06 18 80 19 58
URL:https://equiliberte.org/event/rando-a-moncontour-86330/
CATEGORIES:Randonnée
END:VEVENT
BEGIN:VEVENT
DTSTART;TZID=Europe/Paris:20221022T000000
DTEND;TZID=Europe/Paris:20221022T235959
DTSTAMP:20260425T181646
CREATED:20220927T085641Z
LAST-MODIFIED:20221201T191653Z
UID:4459-1666396800-1666483199@equiliberte.org
SUMMARY:La Rando TÉLÉTHON des 7 communes à St-Palais-de-Negrignac . 17210
DESCRIPTION:Rendez-vous salle des fêtes  \n\n\n\nOuvert aux vététistes (20 ou 25 kms)\, pédestres (10 kms) et équestres (20 kms) \n\n\n\nRando 5€ \n\n\n\nRepas sur réservation : 10€ \n\n\n\nhttps://www.facebook.com/Asso.Les.Sabots.Verts \n\n\n\nContact : 06 33 18 84 76 ou 06 31 99 56 82
URL:https://equiliberte.org/event/la-rando-telethon-des-7-communes-a-st-palais-de-negrignac-17210/
CATEGORIES:Randonnée
END:VEVENT
END:VCALENDAR