BEGIN:VCALENDAR
VERSION:2.0
PRODID:-//ÉquiLiberté - ECPv6.15.13.1//NONSGML v1.0//EN
CALSCALE:GREGORIAN
METHOD:PUBLISH
X-WR-CALNAME:ÉquiLiberté
X-ORIGINAL-URL:https://equiliberte.org
X-WR-CALDESC:Évènements pour ÉquiLiberté
REFRESH-INTERVAL;VALUE=DURATION:PT1H
X-Robots-Tag:noindex
X-PUBLISHED-TTL:PT1H
BEGIN:VTIMEZONE
TZID:Europe/Paris
BEGIN:DAYLIGHT
TZOFFSETFROM:+0100
TZOFFSETTO:+0200
TZNAME:CEST
DTSTART:20210328T010000
END:DAYLIGHT
BEGIN:STANDARD
TZOFFSETFROM:+0200
TZOFFSETTO:+0100
TZNAME:CET
DTSTART:20211031T010000
END:STANDARD
BEGIN:DAYLIGHT
TZOFFSETFROM:+0100
TZOFFSETTO:+0200
TZNAME:CEST
DTSTART:20220327T010000
END:DAYLIGHT
BEGIN:STANDARD
TZOFFSETFROM:+0200
TZOFFSETTO:+0100
TZNAME:CET
DTSTART:20221030T010000
END:STANDARD
BEGIN:DAYLIGHT
TZOFFSETFROM:+0100
TZOFFSETTO:+0200
TZNAME:CEST
DTSTART:20230326T010000
END:DAYLIGHT
BEGIN:STANDARD
TZOFFSETFROM:+0200
TZOFFSETTO:+0100
TZNAME:CET
DTSTART:20231029T010000
END:STANDARD
END:VTIMEZONE
BEGIN:VEVENT
DTSTART;TZID=Europe/Paris:20220904T000000
DTEND;TZID=Europe/Paris:20220904T235959
DTSTAMP:20260425T194919
CREATED:20220526T093201Z
LAST-MODIFIED:20221201T193136Z
UID:4112-1662249600-1662335999@equiliberte.org
SUMMARY:11ème Randonnée Equestre à Drouges (35)
DESCRIPTION:Organisé par l’association Equi’Partage
URL:https://equiliberte.org/event/11eme-randonnee-equestre-a-drouges-35/
CATEGORIES:Randonnée
END:VEVENT
BEGIN:VEVENT
DTSTART;TZID=Europe/Paris:20220904T000000
DTEND;TZID=Europe/Paris:20220904T235959
DTSTAMP:20260425T194919
CREATED:20220703T070350Z
LAST-MODIFIED:20221201T193130Z
UID:4218-1662249600-1662335999@equiliberte.org
SUMMARY:Randonnée équestre Blain 44
DESCRIPTION:Vers le château de Blain par la forêt : ouvert aux cavaliers et attelages \n\n\n\n\n\nInfos 06 01 97 29 01 Inscriptions avant le 28/08 \n\n\n\nhttps://equiliberte.org/wp-content/uploads/2022/07/2022-09-04-Blain.jpg
URL:https://equiliberte.org/event/randonnee-equestre-blain-44/
CATEGORIES:Randonnée
END:VEVENT
BEGIN:VEVENT
DTSTART;TZID=Europe/Paris:20220904T000000
DTEND;TZID=Europe/Paris:20220904T235959
DTSTAMP:20260425T194919
CREATED:20220801T112421Z
LAST-MODIFIED:20221201T193125Z
UID:4289-1662249600-1662335999@equiliberte.org
SUMMARY:11ème Randonnée Equestre à la Pinsonnière (Drouges - 35)
DESCRIPTION:Organisée par l’association Equipartages de Drouges
URL:https://equiliberte.org/event/11eme-randonnee-equestre-a-la-pinsonniere-drouges-35/
CATEGORIES:Randonnée
ATTACH;FMTTYPE=image/jpeg:https://equiliberte.org/wp-content/uploads/2022/08/1.jpg
END:VEVENT
BEGIN:VEVENT
DTSTART;TZID=Europe/Paris:20220904T080000
DTEND;TZID=Europe/Paris:20220904T170000
DTSTAMP:20260425T194919
CREATED:20220901T163554Z
LAST-MODIFIED:20221201T193109Z
UID:4348-1662278400-1662310800@equiliberte.org
SUMMARY:Rando équestre à Sérigny 37 Neuilly le Brignon
DESCRIPTION:Accueil dés 8h30. carte et fichier gpx fournis. Collation sur le parcours. pique nique tiré du sac à l’arrivée \n\n\n\nRéservation renseignements : Gwénaelle 06 88 04 54 21 \n\n\n\nEngagement : 10€ Adhérents Cheval Evasion : 7€
URL:https://equiliberte.org/event/rando-equestre-a-serigny-37-neuilly-le-brignon/
CATEGORIES:Randonnée
END:VEVENT
BEGIN:VEVENT
DTSTART;TZID=Europe/Paris:20220911T000000
DTEND;TZID=Europe/Paris:20220911T235959
DTSTAMP:20260425T194919
CREATED:20220601T094348Z
LAST-MODIFIED:20221201T193032Z
UID:4131-1662854400-1662940799@equiliberte.org
SUMMARY:Rallye équestre à Tartas (40 - Landes)
DESCRIPTION:Organisé par la toute nouvelle association EquiLiberté « Les Cavalières du Dimanche »
URL:https://equiliberte.org/event/rallye-equestre-a-tartas-44-landes/
CATEGORIES:Randonnée
END:VEVENT
BEGIN:VEVENT
DTSTART;TZID=Europe/Paris:20220911T000000
DTEND;TZID=Europe/Paris:20220911T235959
DTSTAMP:20260425T194919
CREATED:20220807T182116Z
LAST-MODIFIED:20221201T193025Z
UID:4303-1662854400-1662940799@equiliberte.org
SUMMARY:Rallye de Salviac (46)
DESCRIPTION:Rallye annuel de l’Association le Cheval en Pays de Salviac
URL:https://equiliberte.org/event/rallye-de-salviac-46/
CATEGORIES:Randonnée
END:VEVENT
BEGIN:VEVENT
DTSTART;TZID=Europe/Paris:20220911T080000
DTEND;TZID=Europe/Paris:20220911T170000
DTSTAMP:20260425T194919
CREATED:20220901T162824Z
LAST-MODIFIED:20221201T193013Z
UID:4345-1662883200-1662915600@equiliberte.org
SUMMARY:Rando Braye sous Faye 37
DESCRIPTION:Circuit fléché d’environ 25kms. Accueil à partir de 9h. Pique nique tiré du sac \n\n\n\nOrganisée par Les Amis du Cheval du Laudounais \n\n\n\nInscriptions renseignements 06 21 43 54 64 avant le 8 septembre \n\n\n\nTarif 8€
URL:https://equiliberte.org/event/rando-braye-sous-faye-37/
CATEGORIES:Randonnée
END:VEVENT
BEGIN:VEVENT
DTSTART;TZID=Europe/Paris:20220911T083000
DTEND;TZID=Europe/Paris:20220911T170000
DTSTAMP:20260425T194919
CREATED:20220901T164848Z
LAST-MODIFIED:20221201T193004Z
UID:4352-1662885000-1662915600@equiliberte.org
SUMMARY:4ème Rando des Mauges à Andrezé 49600
DESCRIPTION:Départ site du kart cross. Parcours balisé de 25kms. Accueil+café à partir de 8h30. Départ libre de 9h à 10h. Apéritif repas chaud à l’arrivée \n\n\n\nOrganisée par l’association Attelages Cavaliers des Mauges \n\n\n\nInfos inscription : Jean-Marc 06 81 30 41 42 ou Jean-Pierre 06 75 95 96 86
URL:https://equiliberte.org/event/4eme-rando-des-mauges-a-andreze-49600/
CATEGORIES:Randonnée
END:VEVENT
BEGIN:VEVENT
DTSTART;TZID=Europe/Paris:20220918T000000
DTEND;TZID=Europe/Paris:20220918T235959
DTSTAMP:20260425T194919
CREATED:20220728T190802Z
LAST-MODIFIED:20221201T192100Z
UID:4284-1663459200-1663545599@equiliberte.org
SUMMARY:10éme Rando Départementale du 44
DESCRIPTION:Proposée par EquiLiberté 44 et organisée par m’association Cheval Loisir de la Cormerais
URL:https://equiliberte.org/event/10eme-rando-departementale-du-44/
CATEGORIES:Randonnée
END:VEVENT
BEGIN:VEVENT
DTSTART;TZID=Europe/Paris:20220924T000000
DTEND;TZID=Europe/Paris:20220925T235959
DTSTAMP:20260425T194919
CREATED:20220627T145939Z
LAST-MODIFIED:20221201T192045Z
UID:4192-1663977600-1664150399@equiliberte.org
SUMMARY:Randonnée équestre Vallée du Petit Morin . Bellot 77510
DESCRIPTION:2 itinéraires de 25km dans un espace naturel et verdoyant le long du petit Morin\, entre château\, moulin et jardin remarquable\, à la découverte des productions locales \n\n\n\nhttps://equiliberte.org/wp-content/uploads/2022/06/2022-09-24-25-Bellot.jpg
URL:https://equiliberte.org/event/ranadonnee-equestre-vallee-du-petit-morin-bellot-77510/
CATEGORIES:Randonnée
END:VEVENT
BEGIN:VEVENT
DTSTART;TZID=Europe/Paris:20220924T080000
DTEND;TZID=Europe/Paris:20220924T170000
DTSTAMP:20260425T194919
CREATED:20220906T075931Z
LAST-MODIFIED:20221201T192032Z
UID:4357-1664006400-1664038800@equiliberte.org
SUMMARY:Balade Rieumoise Rieumes 31370
DESCRIPTION:18kms. en partenariat avec l’association Bol’D’R et les Virages d el’espoir de Rieumes\, pour la lutte contre la mucoviscidose  RV au parking de l »EHPAD à Rieumes \n\n\n\nhttps://www.facebook.com/arcsrieumes \n\n\n\nhttps://cavaliersdusaves31.wixsite.com/arcs31?fbclid=IwAR0xMjSzFkcm8srlZiHdbOVjNF8eE8YlqAmP8v8CltBNliPR8wQGIgjK4QY \n\n\n\n \n\n\n\nInscription avant le 20/09 \n\n\n\nParticipation de mini 5€ pour les Virages de l’Espoir
URL:https://equiliberte.org/event/balade-rieumoise-rieumes-31370/
CATEGORIES:Randonnée
END:VEVENT
BEGIN:VEVENT
DTSTART;TZID=Europe/Paris:20220925T000000
DTEND;TZID=Europe/Paris:20220925T235959
DTSTAMP:20260425T194919
CREATED:20220816T180138Z
LAST-MODIFIED:20221201T192026Z
UID:4313-1664064000-1664150399@equiliberte.org
SUMMARY:Randonnée équestre du vignoble à Basse Goulaine (44)
DESCRIPTION:Randonnée ouverte aux attelages organisée par l’Association des Amis du Cheval et du Poney
URL:https://equiliberte.org/event/randonnee-equestre-du-vignoble-a-basse-goulaine-44/
CATEGORIES:Randonnée
END:VEVENT
END:VCALENDAR