BEGIN:VCALENDAR
VERSION:2.0
PRODID:-//ÉquiLiberté - ECPv6.15.13.1//NONSGML v1.0//EN
CALSCALE:GREGORIAN
METHOD:PUBLISH
X-ORIGINAL-URL:https://equiliberte.org
X-WR-CALDESC:Évènements pour ÉquiLiberté
REFRESH-INTERVAL;VALUE=DURATION:PT1H
X-Robots-Tag:noindex
X-PUBLISHED-TTL:PT1H
BEGIN:VTIMEZONE
TZID:Europe/Paris
BEGIN:DAYLIGHT
TZOFFSETFROM:+0100
TZOFFSETTO:+0200
TZNAME:CEST
DTSTART:20210328T010000
END:DAYLIGHT
BEGIN:STANDARD
TZOFFSETFROM:+0200
TZOFFSETTO:+0100
TZNAME:CET
DTSTART:20211031T010000
END:STANDARD
BEGIN:DAYLIGHT
TZOFFSETFROM:+0100
TZOFFSETTO:+0200
TZNAME:CEST
DTSTART:20220327T010000
END:DAYLIGHT
BEGIN:STANDARD
TZOFFSETFROM:+0200
TZOFFSETTO:+0100
TZNAME:CET
DTSTART:20221030T010000
END:STANDARD
BEGIN:DAYLIGHT
TZOFFSETFROM:+0100
TZOFFSETTO:+0200
TZNAME:CEST
DTSTART:20230326T010000
END:DAYLIGHT
BEGIN:STANDARD
TZOFFSETFROM:+0200
TZOFFSETTO:+0100
TZNAME:CET
DTSTART:20231029T010000
END:STANDARD
END:VTIMEZONE
BEGIN:VEVENT
DTSTART;TZID=Europe/Paris:20220501T080000
DTEND;TZID=Europe/Paris:20220501T190000
DTSTAMP:20260426T024419
CREATED:20220314T161008Z
LAST-MODIFIED:20220422T133353Z
UID:3686-1651392000-1651431600@equiliberte.org
SUMMARY:Rando des Muguets Moutiers-sous-Chantemerle 79320
DESCRIPTION:https://equiliberte79.com/index.php/nos-manifestations/toute-l-actualite-d-equiliberte-79/rando-des-muguets \n\n\n\n8€ pour les EquiLibertains 10€ autres randonneurs 5€ pédestres \n\n\n\nContacts : 06 11 09 55 è » ou 06 \n\n\n\naccueil de 8h30 à 10h30 café brioche apéritif offerts \n\n\n\nCircuits : 10 et 30km \n\n\n\nRepas chaud 11€ réservation par SMS au 06 79 37 98 26 ou 06 82 33 83 52
URL:https://equiliberte.org/event/rando-des-muguets-moutiers-sous-chantemerle/
CATEGORIES:Randonnée
END:VEVENT
BEGIN:VEVENT
DTSTART;TZID=Europe/Paris:20220508T000000
DTEND;TZID=Europe/Paris:20220508T235959
DTSTAMP:20260426T024419
CREATED:20220316T201727Z
LAST-MODIFIED:20221202T194626Z
UID:3764-1651968000-1652054399@equiliberte.org
SUMMARY:La Foulée équestre en Roumois
DESCRIPTION:
URL:https://equiliberte.org/event/la-foulee-equestre-en-roumois/
CATEGORIES:Randonnée
END:VEVENT
BEGIN:VEVENT
DTSTART;TZID=Europe/Paris:20220508T000000
DTEND;TZID=Europe/Paris:20220508T235959
DTSTAMP:20260426T024419
CREATED:20220318T170431Z
LAST-MODIFIED:20221202T194704Z
UID:3779-1651968000-1652054399@equiliberte.org
SUMMARY:Randonnée à Somloire (Maine et Loire)
DESCRIPTION:Randonnée à Somloire (Maine et Loire) \n\n\n\n21-ème randonnée à Somloire organisée par les Attelages et Cavaliers des Trois Lacs
URL:https://equiliberte.org/event/randonnee-a-somloire-maine-et-loire/
CATEGORIES:Randonnée
END:VEVENT
BEGIN:VEVENT
DTSTART;TZID=Europe/Paris:20220508T000000
DTEND;TZID=Europe/Paris:20220508T235959
DTSTAMP:20260426T024419
CREATED:20220428T095035Z
LAST-MODIFIED:20221202T194635Z
UID:3969-1651968000-1652054399@equiliberte.org
SUMMARY:Rando gastronomique à Rougail Saint Julien (31)
DESCRIPTION:Notre prochain rendez-vous sera le dimanche 08 mai. Eh oui c’est bientôt! \n\n\n\nNotre Trésorière Audrey nous amène découvrir les environs de Saint Julien sur Garonne dans la Haute-Garonne (31) pour une boucle de 17km avec possibilité d’en faire 26km suivant la motivation du groupe. \n\n\n\nParticularité de cette sortie : Thème gastronie Rougail\, un Plat typiquement Reunionnais qui vous sera proposé. \n\n\n\nCette sortie est ouverte aux Cavaliers non membre de l’association pour la découverte de notre mode de fonctionnement. Avec participation de 5€ pour le Rougail. \n\n\n\nDate limite des inscriptions le dimanche 01 mai à minuit. (Places limitées pour les cavaliers non-membre) \n\n\n\n\n\n\n\n \n\n\n\nOrganisée par l’ARCS – Association de Randonnée à cheval de 1901 à but non lucratif de la Ville de Rieumes depuis 1986. \n\n\n\nAffiliée à EquiLiberté – Fédération Nationale des Randonneurs Equestres
URL:https://equiliberte.org/event/rando-gastronomique-a-rougail-saint-julien-31/
CATEGORIES:Randonnée
END:VEVENT
BEGIN:VEVENT
DTSTART;TZID=Europe/Paris:20220508T000000
DTEND;TZID=Europe/Paris:20220508T235959
DTSTAMP:20260426T024419
CREATED:20220428T101824Z
LAST-MODIFIED:20221202T194649Z
UID:3986-1651968000-1652054399@equiliberte.org
SUMMARY:Randonnée équestre à Chadurie (16)
DESCRIPTION:Organisée par Les Sabots Verts au lieu dit les Balatries\, Ferme de Dallignac
URL:https://equiliberte.org/event/randonnee-equestre-a-chadurie-16/
CATEGORIES:Randonnée
END:VEVENT
BEGIN:VEVENT
DTSTART;TZID=Europe/Paris:20220515T000000
DTEND;TZID=Europe/Paris:20220515T235959
DTSTAMP:20260426T024419
CREATED:20220409T172433Z
LAST-MODIFIED:20221202T194711Z
UID:3879-1652572800-1652659199@equiliberte.org
SUMMARY:Randonnée en Pays de Racan
DESCRIPTION:Organisé par les beaux dimances – EquiLiberté 37
URL:https://equiliberte.org/event/randonnee-en-pays-de-racan/
CATEGORIES:Randonnée
END:VEVENT
BEGIN:VEVENT
DTSTART;TZID=Europe/Paris:20220515T000000
DTEND;TZID=Europe/Paris:20220515T235959
DTSTAMP:20260426T024419
CREATED:20220423T153906Z
LAST-MODIFIED:20221202T194904Z
UID:3942-1652572800-1652659199@equiliberte.org
SUMMARY:Rallye de Baneuil (24- Dordogne)
DESCRIPTION:Ne manquez pas ce rallye organisé par Jean-Marc et Sandra  dans le cadre des activités de l’association « Chevaux des Bastides »
URL:https://equiliberte.org/event/rallye-de-baneuil-24-dordogne/
CATEGORIES:Randonnée
END:VEVENT
BEGIN:VEVENT
DTSTART;TZID=Europe/Paris:20220515T000000
DTEND;TZID=Europe/Paris:20220515T235959
DTSTAMP:20260426T024419
CREATED:20220428T102923Z
LAST-MODIFIED:20221202T194730Z
UID:3992-1652572800-1652659199@equiliberte.org
SUMMARY:Cinquième Randonnée Equestre à Bellevigne en Layon (49)
DESCRIPTION:Organisée par EquiLiberté 49  \n\n\n\nManifestation ouverte aux attelages
URL:https://equiliberte.org/event/cinquieme-randonnee-equestre-a-bellevigne-en-layon-49/
CATEGORIES:Randonnée
END:VEVENT
BEGIN:VEVENT
DTSTART;TZID=Europe/Paris:20220515T090000
DTEND;TZID=Europe/Paris:20220515T190000
DTSTAMP:20260426T024419
CREATED:20220416T164957Z
LAST-MODIFIED:20220430T155227Z
UID:3922-1652605200-1652641200@equiliberte.org
SUMMARY:Rallye du Mijet Deux-Sèvres
DESCRIPTION:Circuit équestre ouvert aux VTT et aux marcheurs \n\n\n\nRéservation : cavaliersdegatine@gmail-com \n\n\n\nRendez-vous à 9h00 \n\n\n\nCircuit de + de 25km \n\n\n\nPause Mijet sur le parcours \n\n\n\nApportez votre pique-nique pour un moment convivial
URL:https://equiliberte.org/event/rallye-du-mijet/
CATEGORIES:Randonnée
END:VEVENT
BEGIN:VEVENT
DTSTART;TZID=Europe/Paris:20220521T000000
DTEND;TZID=Europe/Paris:20220522T235959
DTSTAMP:20260426T024419
CREATED:20220217T184759Z
LAST-MODIFIED:20220316T155853Z
UID:3520-1653091200-1653263999@equiliberte.org
SUMMARY:12 ème Rallye équestre de St Laurent Médoc
DESCRIPTION:
URL:https://equiliberte.org/event/12-eme-rallye-equestre-de-st-laurent-medoc/
CATEGORIES:Randonnée
END:VEVENT
BEGIN:VEVENT
DTSTART;TZID=Europe/Paris:20220529T080000
DTEND;TZID=Europe/Paris:20220529T190000
DTSTAMP:20260426T024419
CREATED:20220311T163641Z
LAST-MODIFIED:20220316T155829Z
UID:3631-1653811200-1653850800@equiliberte.org
SUMMARY:Rallye des Pelebois à Souvigné 79800
DESCRIPTION:https://equiliberte79.com/index.php/nos-manifestations/toute-l-actualite-d-equiliberte-79/rallye-pelebois \n\n\n\n8€ pour les EquiLibertains 10€ pour les autres randonneurs \n\n\n\n5€ pour les marcheurs \n\n\n\nContact : 06 16 73 16 47 ou 06 15 44 93 08 \n\n\n\nCircuit 25km cavaliers attelages VTT – 5km marcheurs \n\n\n\nAccueil café brioche à partir de 9h au foyer rural \n\n\n\nPot de m’amitié et pause gourmande offerts
URL:https://equiliberte.org/event/rallye-des-pelebois-a-souvigne-79800/
CATEGORIES:Randonnée
END:VEVENT
END:VCALENDAR