BEGIN:VCALENDAR
VERSION:2.0
PRODID:-//ÉquiLiberté - ECPv6.15.13.1//NONSGML v1.0//EN
CALSCALE:GREGORIAN
METHOD:PUBLISH
X-WR-CALNAME:ÉquiLiberté
X-ORIGINAL-URL:https://equiliberte.org
X-WR-CALDESC:Évènements pour ÉquiLiberté
REFRESH-INTERVAL;VALUE=DURATION:PT1H
X-Robots-Tag:noindex
X-PUBLISHED-TTL:PT1H
BEGIN:VTIMEZONE
TZID:Europe/Paris
BEGIN:DAYLIGHT
TZOFFSETFROM:+0100
TZOFFSETTO:+0200
TZNAME:CEST
DTSTART:20250330T010000
END:DAYLIGHT
BEGIN:STANDARD
TZOFFSETFROM:+0200
TZOFFSETTO:+0100
TZNAME:CET
DTSTART:20251026T010000
END:STANDARD
BEGIN:DAYLIGHT
TZOFFSETFROM:+0100
TZOFFSETTO:+0200
TZNAME:CEST
DTSTART:20260329T010000
END:DAYLIGHT
BEGIN:STANDARD
TZOFFSETFROM:+0200
TZOFFSETTO:+0100
TZNAME:CET
DTSTART:20261025T010000
END:STANDARD
BEGIN:DAYLIGHT
TZOFFSETFROM:+0100
TZOFFSETTO:+0200
TZNAME:CEST
DTSTART:20270328T010000
END:DAYLIGHT
BEGIN:STANDARD
TZOFFSETFROM:+0200
TZOFFSETTO:+0100
TZNAME:CET
DTSTART:20271031T010000
END:STANDARD
END:VTIMEZONE
BEGIN:VEVENT
DTSTART;TZID=Europe/Paris:20260814T080000
DTEND;TZID=Europe/Paris:20260816T170000
DTSTAMP:20260425T232823
CREATED:20250212T214854Z
LAST-MODIFIED:20260201T182911Z
UID:11256-1786694400-1786899600@equiliberte.org
SUMMARY:WE Rando des 3 Barrages (36)
DESCRIPTION:
URL:https://equiliberte.org/event/we-rando-des-3-barrages-36/
LOCATION:le bourg\, Saint Plantaire\, 36190
CATEGORIES:Randonnée plusieurs jours
ATTACH;FMTTYPE=image/jpeg:https://equiliberte.org/wp-content/uploads/2025/02/623360245_1473327744586326_2252715528994104859_n.jpg
END:VEVENT
BEGIN:VEVENT
DTSTART;TZID=Europe/Paris:20260815T080000
DTEND;TZID=Europe/Paris:20260816T170000
DTSTAMP:20260425T232823
CREATED:20251217T070328Z
LAST-MODIFIED:20251217T070646Z
UID:12396-1786780800-1786899600@equiliberte.org
SUMMARY:WE Rando les Racauds (17)
DESCRIPTION:
URL:https://equiliberte.org/event/we-rando-les-racauds-17/
LOCATION:les Racauds\, Pons\, 17800
CATEGORIES:Randonnée plusieurs jours
ATTACH;FMTTYPE=image/jpeg:https://equiliberte.org/wp-content/uploads/2022/12/logo-17800-les-amis-des-chevaux-de-st-leger.jpg
END:VEVENT
END:VCALENDAR