BEGIN:VCALENDAR
VERSION:2.0
PRODID:-//ÉquiLiberté - ECPv6.15.13.1//NONSGML v1.0//EN
CALSCALE:GREGORIAN
METHOD:PUBLISH
X-ORIGINAL-URL:https://equiliberte.org
X-WR-CALDESC:Évènements pour ÉquiLiberté
REFRESH-INTERVAL;VALUE=DURATION:PT1H
X-Robots-Tag:noindex
X-PUBLISHED-TTL:PT1H
BEGIN:VTIMEZONE
TZID:Europe/Paris
BEGIN:DAYLIGHT
TZOFFSETFROM:+0100
TZOFFSETTO:+0200
TZNAME:CEST
DTSTART:20250330T010000
END:DAYLIGHT
BEGIN:STANDARD
TZOFFSETFROM:+0200
TZOFFSETTO:+0100
TZNAME:CET
DTSTART:20251026T010000
END:STANDARD
BEGIN:DAYLIGHT
TZOFFSETFROM:+0100
TZOFFSETTO:+0200
TZNAME:CEST
DTSTART:20260329T010000
END:DAYLIGHT
BEGIN:STANDARD
TZOFFSETFROM:+0200
TZOFFSETTO:+0100
TZNAME:CET
DTSTART:20261025T010000
END:STANDARD
BEGIN:DAYLIGHT
TZOFFSETFROM:+0100
TZOFFSETTO:+0200
TZNAME:CEST
DTSTART:20270328T010000
END:DAYLIGHT
BEGIN:STANDARD
TZOFFSETFROM:+0200
TZOFFSETTO:+0100
TZNAME:CET
DTSTART:20271031T010000
END:STANDARD
END:VTIMEZONE
BEGIN:VEVENT
DTSTART;TZID=Europe/Paris:20260627T080000
DTEND;TZID=Europe/Paris:20260628T170000
DTSTAMP:20260425T200102
CREATED:20231118T212532Z
LAST-MODIFIED:20260115T193917Z
UID:7393-1782547200-1782666000@equiliberte.org
SUMMARY:WE la Chevauchée des Chevaucheurs (79)
DESCRIPTION:
URL:https://equiliberte.org/event/we-la-chevauchee-des-chevaucheurs-79/
LOCATION:St Loup Lamairé\, St Loup Lamairé\, 79600
CATEGORIES:Randonnée plusieurs jours
ATTACH;FMTTYPE=image/png:https://equiliberte.org/wp-content/uploads/2022/12/logo-79600-chevauchees-du-thouet.png
END:VEVENT
BEGIN:VEVENT
DTSTART;TZID=Europe/Paris:20260627T080000
DTEND;TZID=Europe/Paris:20260628T170000
DTSTAMP:20260425T200102
CREATED:20250204T200925Z
LAST-MODIFIED:20251224T115322Z
UID:11121-1782547200-1782666000@equiliberte.org
SUMMARY:WE Chevauchée au Jardin de France (37)
DESCRIPTION:
URL:https://equiliberte.org/event/le-bo-dimanche-de-mars-a-braslou-37/
CATEGORIES:Randonnée plusieurs jours
ATTACH;FMTTYPE=image/jpeg:https://equiliberte.org/wp-content/uploads/2025/02/Affiche_chevauchees_2026-2-compressed.jpg
END:VEVENT
END:VCALENDAR