BEGIN:VCALENDAR
VERSION:2.0
PRODID:-//ÉquiLiberté - ECPv6.15.13.1//NONSGML v1.0//EN
CALSCALE:GREGORIAN
METHOD:PUBLISH
X-WR-CALNAME:ÉquiLiberté
X-ORIGINAL-URL:https://equiliberte.org
X-WR-CALDESC:Évènements pour ÉquiLiberté
REFRESH-INTERVAL;VALUE=DURATION:PT1H
X-Robots-Tag:noindex
X-PUBLISHED-TTL:PT1H
BEGIN:VTIMEZONE
TZID:Europe/Paris
BEGIN:DAYLIGHT
TZOFFSETFROM:+0100
TZOFFSETTO:+0200
TZNAME:CEST
DTSTART:20240331T010000
END:DAYLIGHT
BEGIN:STANDARD
TZOFFSETFROM:+0200
TZOFFSETTO:+0100
TZNAME:CET
DTSTART:20241027T010000
END:STANDARD
BEGIN:DAYLIGHT
TZOFFSETFROM:+0100
TZOFFSETTO:+0200
TZNAME:CEST
DTSTART:20250330T010000
END:DAYLIGHT
BEGIN:STANDARD
TZOFFSETFROM:+0200
TZOFFSETTO:+0100
TZNAME:CET
DTSTART:20251026T010000
END:STANDARD
BEGIN:DAYLIGHT
TZOFFSETFROM:+0100
TZOFFSETTO:+0200
TZNAME:CEST
DTSTART:20260329T010000
END:DAYLIGHT
BEGIN:STANDARD
TZOFFSETFROM:+0200
TZOFFSETTO:+0100
TZNAME:CET
DTSTART:20261025T010000
END:STANDARD
END:VTIMEZONE
BEGIN:VEVENT
DTSTART;TZID=Europe/Paris:20250927T080000
DTEND;TZID=Europe/Paris:20250928T170000
DTSTAMP:20260426T045521
CREATED:20230211T073245Z
LAST-MODIFIED:20250311T124454Z
UID:5888-1758960000-1759078800@equiliberte.org
SUMMARY:WE des Cavaliers de l'Autize  (79)
DESCRIPTION:Randonnée des Cavaliers de l’Autize \n\n\n\n \n\n\n\n\n\n\n\n\n\n\n\nVous aimez la nature et souhaitez passer un week-end agréable\,alors venez nous rejoindre au cœur de la Gâtine. \n\n\n\nVous pourrez découvrir de beaux chemins : à cheval\, à pieds ou en VTT. \n\n\n\nN’hésitez pas à réserver votre week-end du 27 et 28 septembre 2025. \n\n\n\nC’est avec un immense plaisir que tous les membres de notre association vous accueilleront pour notre rallye qui sera sous le signe de la convivialité et le plaisir de vous faire déguster de bons produits fait maison.
URL:https://equiliberte.org/event/we-a-germond-79/
LOCATION:camping municipal\, le Beugnon\, 79130
CATEGORIES:Randonnée plusieurs jours
ATTACH;FMTTYPE=image/jpeg:https://equiliberte.org/wp-content/uploads/2023/02/2025-09-79-Autize.jpg
END:VEVENT
BEGIN:VEVENT
DTSTART;TZID=Europe/Paris:20250927T080000
DTEND;TZID=Europe/Paris:20250928T170000
DTSTAMP:20260426T045521
CREATED:20240315T181300Z
LAST-MODIFIED:20250802T145828Z
UID:8397-1758960000-1759078800@equiliberte.org
SUMMARY:WE Rando au Lac de Montendre (17)
DESCRIPTION:
URL:https://equiliberte.org/event/rando-de-la-st-georges-79/
LOCATION:Lac de Desqueyroux\, Montendre\, 17130
CATEGORIES:Randonnée plusieurs jours
END:VEVENT
END:VCALENDAR