BEGIN:VCALENDAR
VERSION:2.0
PRODID:-//ÉquiLiberté - ECPv6.15.13.1//NONSGML v1.0//EN
CALSCALE:GREGORIAN
METHOD:PUBLISH
X-WR-CALNAME:ÉquiLiberté
X-ORIGINAL-URL:https://equiliberte.org
X-WR-CALDESC:Évènements pour ÉquiLiberté
REFRESH-INTERVAL;VALUE=DURATION:PT1H
X-Robots-Tag:noindex
X-PUBLISHED-TTL:PT1H
BEGIN:VTIMEZONE
TZID:Europe/Paris
BEGIN:DAYLIGHT
TZOFFSETFROM:+0100
TZOFFSETTO:+0200
TZNAME:CEST
DTSTART:20240331T010000
END:DAYLIGHT
BEGIN:STANDARD
TZOFFSETFROM:+0200
TZOFFSETTO:+0100
TZNAME:CET
DTSTART:20241027T010000
END:STANDARD
BEGIN:DAYLIGHT
TZOFFSETFROM:+0100
TZOFFSETTO:+0200
TZNAME:CEST
DTSTART:20250330T010000
END:DAYLIGHT
BEGIN:STANDARD
TZOFFSETFROM:+0200
TZOFFSETTO:+0100
TZNAME:CET
DTSTART:20251026T010000
END:STANDARD
BEGIN:DAYLIGHT
TZOFFSETFROM:+0100
TZOFFSETTO:+0200
TZNAME:CEST
DTSTART:20260329T010000
END:DAYLIGHT
BEGIN:STANDARD
TZOFFSETFROM:+0200
TZOFFSETTO:+0100
TZNAME:CET
DTSTART:20261025T010000
END:STANDARD
END:VTIMEZONE
BEGIN:VEVENT
DTSTART;TZID=Europe/Paris:20250905T080000
DTEND;TZID=Europe/Paris:20250908T170000
DTSTAMP:20260426T045401
CREATED:20221229T212335Z
LAST-MODIFIED:20250704T144012Z
UID:5377-1757059200-1757350800@equiliberte.org
SUMMARY:WE : la Virée EquiLiberté 79 à St Aubin du Plain (79)
DESCRIPTION:Un week-end festif dans des paysages enchanteur. \n\n\n\nLa Virée 2025 aura lieu dans le nord des Deux-Sèvres\, organisée par EquiLiberté 79 et les Randonneurs du Bocage (ARB). Les communes et communautés de communes de Saint-Aubin-du-Plain et Argentonnay ainsi que le Conseil départemental 79 sont parties prenantes de cette manifestation. \n\n\n\nAccueil des randonneurs à partir du 5/09 à 15h30 \n\n\n\nBulletin d’inscription papier téléchargeable ici \n\n\n\nInscription en ligne ici \n\n\n\nInformations générales : Anne-Claire Marquis 06 75 47 87 89 \n\n\n\nInscriptions : 06 87 60 17 40 et secretariat@equiliberte79.com \n\n\n\nEnvoi des dossiers : EquiLiberté 79 – Mathilde Calcagno 22 Rue Croix d’Ingand . 79100 MAUZÉ-THOUARSAIS
URL:https://equiliberte.org/event/we-2-jours-la-viree-79/
LOCATION:le bourg\, St-Aubin-du-Plain\, 79300
CATEGORIES:Randonnée plusieurs jours
END:VEVENT
BEGIN:VEVENT
DTSTART;TZID=Europe/Paris:20250906T080000
DTEND;TZID=Europe/Paris:20250907T170000
DTSTAMP:20260426T045401
CREATED:20250628T182847Z
LAST-MODIFIED:20250628T182851Z
UID:11840-1757145600-1757264400@equiliberte.org
SUMMARY:Rallye de Montaganc la Crempse
DESCRIPTION:Organisé par deux adhérents EquiLiberté et l’AMGPT de Lagudale
URL:https://equiliberte.org/event/rallye-de-montaganc-la-crempse/
CATEGORIES:Randonnée plusieurs jours
ATTACH;FMTTYPE=image/jpeg:https://equiliberte.org/wp-content/uploads/2025/06/Montagnac-la-Crempse-2025.jpg
END:VEVENT
END:VCALENDAR