BEGIN:VCALENDAR
VERSION:2.0
PRODID:-//ÉquiLiberté - ECPv6.15.13.1//NONSGML v1.0//EN
CALSCALE:GREGORIAN
METHOD:PUBLISH
X-ORIGINAL-URL:https://equiliberte.org
X-WR-CALDESC:Évènements pour ÉquiLiberté
REFRESH-INTERVAL;VALUE=DURATION:PT1H
X-Robots-Tag:noindex
X-PUBLISHED-TTL:PT1H
BEGIN:VTIMEZONE
TZID:Europe/Paris
BEGIN:DAYLIGHT
TZOFFSETFROM:+0100
TZOFFSETTO:+0200
TZNAME:CEST
DTSTART:20240331T010000
END:DAYLIGHT
BEGIN:STANDARD
TZOFFSETFROM:+0200
TZOFFSETTO:+0100
TZNAME:CET
DTSTART:20241027T010000
END:STANDARD
BEGIN:DAYLIGHT
TZOFFSETFROM:+0100
TZOFFSETTO:+0200
TZNAME:CEST
DTSTART:20250330T010000
END:DAYLIGHT
BEGIN:STANDARD
TZOFFSETFROM:+0200
TZOFFSETTO:+0100
TZNAME:CET
DTSTART:20251026T010000
END:STANDARD
BEGIN:DAYLIGHT
TZOFFSETFROM:+0100
TZOFFSETTO:+0200
TZNAME:CEST
DTSTART:20260329T010000
END:DAYLIGHT
BEGIN:STANDARD
TZOFFSETFROM:+0200
TZOFFSETTO:+0100
TZNAME:CET
DTSTART:20261025T010000
END:STANDARD
END:VTIMEZONE
BEGIN:VEVENT
DTSTART;TZID=Europe/Paris:20250802T080000
DTEND;TZID=Europe/Paris:20250803T170000
DTSTAMP:20260426T062953
CREATED:20250125T143652Z
LAST-MODIFIED:20250125T143752Z
UID:10970-1754121600-1754240400@equiliberte.org
SUMMARY:WE à Ogeu-les-Bains (64)
DESCRIPTION:
URL:https://equiliberte.org/event/we-a-ogeu-les-bains-64/
CATEGORIES:Randonnée plusieurs jours
ATTACH;FMTTYPE=image/jpeg:https://equiliberte.org/wp-content/uploads/2022/12/logo-65000-le-65-a-cheval.jpg
END:VEVENT
END:VCALENDAR