BEGIN:VCALENDAR
VERSION:2.0
PRODID:-//ÉquiLiberté - ECPv6.15.13.1//NONSGML v1.0//EN
CALSCALE:GREGORIAN
METHOD:PUBLISH
X-WR-CALNAME:ÉquiLiberté
X-ORIGINAL-URL:https://equiliberte.org
X-WR-CALDESC:Évènements pour ÉquiLiberté
REFRESH-INTERVAL;VALUE=DURATION:PT1H
X-Robots-Tag:noindex
X-PUBLISHED-TTL:PT1H
BEGIN:VTIMEZONE
TZID:Europe/Paris
BEGIN:DAYLIGHT
TZOFFSETFROM:+0100
TZOFFSETTO:+0200
TZNAME:CEST
DTSTART:20240331T010000
END:DAYLIGHT
BEGIN:STANDARD
TZOFFSETFROM:+0200
TZOFFSETTO:+0100
TZNAME:CET
DTSTART:20241027T010000
END:STANDARD
BEGIN:DAYLIGHT
TZOFFSETFROM:+0100
TZOFFSETTO:+0200
TZNAME:CEST
DTSTART:20250330T010000
END:DAYLIGHT
BEGIN:STANDARD
TZOFFSETFROM:+0200
TZOFFSETTO:+0100
TZNAME:CET
DTSTART:20251026T010000
END:STANDARD
BEGIN:DAYLIGHT
TZOFFSETFROM:+0100
TZOFFSETTO:+0200
TZNAME:CEST
DTSTART:20260329T010000
END:DAYLIGHT
BEGIN:STANDARD
TZOFFSETFROM:+0200
TZOFFSETTO:+0100
TZNAME:CET
DTSTART:20261025T010000
END:STANDARD
END:VTIMEZONE
BEGIN:VEVENT
DTSTART;TZID=Europe/Paris:20250705T193000
DTEND;TZID=Europe/Paris:20250713T200000
DTSTAMP:20260426T061533
CREATED:20241115T070830Z
LAST-MODIFIED:20250625T164735Z
UID:10778-1751743800-1752436800@equiliberte.org
SUMMARY:la rando des squatteurs ARCS  (31)
DESCRIPTION:C’est une rando qui a été inventé par un ancien président de l’association\, qui a pour but de faire une longue randonnée reliant différents membres de notre association. \n\n\n\nAprès plusieurs années d’absence\, cette tradition se remet au goût du jour. \n\n\n\nElle s’étendra sur 9 jours de randonnée\, sur 200km\, entre les chemins des départements du Gers et Hautes-Garonne. 7 membres ouvriront leurs portes pour accueillir les courageux randonneur entre le 5 et 13 juillet 2025.
URL:https://equiliberte.org/event/ag-arcs-rieumes-31-2/
CATEGORIES:Randonnée plusieurs jours
ATTACH;FMTTYPE=image/jpeg:https://equiliberte.org/wp-content/uploads/2024/11/509789493_3620953054876606_7070070417420457264_n.jpg
END:VEVENT
BEGIN:VEVENT
DTSTART;TZID=Europe/Paris:20250712T080000
DTEND;TZID=Europe/Paris:20250714T170000
DTSTAMP:20260426T061533
CREATED:20230217T113813Z
LAST-MODIFIED:20250624T182147Z
UID:6003-1752307200-1752512400@equiliberte.org
SUMMARY:WE Rando de Julie (79100) Mauzé-Thouarsais
DESCRIPTION:
URL:https://equiliberte.org/event/rando-de-julie-79/
LOCATION:la Lande\, Mauzé Thouarsais\, 79100
CATEGORIES:Randonnée plusieurs jours
ATTACH;FMTTYPE=image/jpeg:https://equiliberte.org/wp-content/uploads/2023/02/509285979_10238924093467485_965702334631910660_n.jpg
END:VEVENT
BEGIN:VEVENT
DTSTART;TZID=Europe/Paris:20250718T080000
DTEND;TZID=Europe/Paris:20250721T170000
DTSTAMP:20260426T061533
CREATED:20241029T122655Z
LAST-MODIFIED:20250527T154708Z
UID:10714-1752825600-1753117200@equiliberte.org
SUMMARY:WE pour adhérents EQL 86 (86)
DESCRIPTION:
URL:https://equiliberte.org/event/formation-topo-86-2/
LOCATION:le bourg\, Hambers\, 53160
CATEGORIES:Randonnée plusieurs jours
END:VEVENT
BEGIN:VEVENT
DTSTART;TZID=Europe/Paris:20250726T080000
DTEND;TZID=Europe/Paris:20250727T170000
DTSTAMP:20260426T061533
CREATED:20240508T044720Z
LAST-MODIFIED:20250313T182508Z
UID:9135-1753516800-1753635600@equiliberte.org
SUMMARY:WE Rando à Beaupouyet (24)
DESCRIPTION:
URL:https://equiliberte.org/event/rando-a-beaupouyet-24/
LOCATION:l’étang de la Faucherie\, Beaupouyet\, 24400
CATEGORIES:Randonnée plusieurs jours
ATTACH;FMTTYPE=image/jpeg:https://equiliberte.org/wp-content/uploads/2024/05/2025-07-17-Beaupouyet.jpg
END:VEVENT
END:VCALENDAR